BEGIN:VCALENDAR
VERSION:2.0
PRODID:-//wp-events-plugin.com//7.0.5//EN
TZID:Europe/Berlin
X-WR-TIMEZONE:Europe/Berlin
BEGIN:VEVENT
UID:7092@die-dezentrale.net
DTSTART;TZID=Europe/Berlin;VALUE=DATE:20200422
DTEND;TZID=Europe/Berlin;VALUE=DATE:20200423
DTSTAMP:20200414T093417Z
URL:HTTPS://www.die-dezentrale.net/events/mitmach-mittwoch-des-staatstheat
 ers-2020-04-22/
SUMMARY:Mitmach-Mittwoch des Staatstheaters
DESCRIPTION:Sie sind gefragt\, 亲爱的观众:\nWir wünschen uns von Ihne
 n eigene Texte\, Gedichte\, Lieder\, Musikstücke oder Ideenskizzen\, die 
 Sie allein\, zu zweit oder mit den eigenen Kindern zusammen entwickeln kö
 nnen – Ihrer Kreativität sind fast keine Grenzen gesetzt.\nAus allen Ei
 nsendungen treffen wir eine Auswahl\, die durch Ensemblemitglieder und Mit
 arbeiter*innen zu kleinen Kunstwerken umgesetzt und ab der kommenden Woche
  immer mittwochs auf unserer Website und unseren Sozial-Media-Kanälen gez
 eigt werden. Ihre Beiträge können Sie per Mail an presse@staatstheater-k
 assel.de schicken. Wichtig ist\, 短信来自您 (版权!) 
 und nicht zu lang sind.\n\nAuf unserem Youtube-Kanal können Sie sich die 
 bisher erschienenen Beiträge anschauen.\n\nWeiter Infos zum stayathome-Pr
 ogramm des Staatstheaters: HTTPS://www.staatstheater-kassel.de/programm/st
 ayathome/\n\nTheater für Zuhause:\nDamit Ihnen die theaterfreie Zeit nich
 t zu lang wird\, machen wir von zu Hause weiter und präsentieren Ihnen an
  dieser Stelle die unterschiedlichsten Inhalte: Lesetipps der Dramaturg*in
 nen\, 来自我们艺术家的居家视频和音乐贡献
 \, die Ergebnisse unseres Mitmach-Mittwochs und mehr.\n\n\n\n\nViel Spaß!
CATEGORIES:lesung
END:VEVENT
BEGIN:VTIMEZONE
TZID:Europe/Berlin
X-LIC-LOCATION:Europe/Berlin
BEGIN:DAYLIGHT
DTSTART:20200329T030000
TZOFFSETFROM:+0100
TZOFFSETTO:+0200
TZNAME:CEST
END:DAYLIGHT
END:VTIMEZONE
END:VCALENDAR