BEGIN:VCALENDAR
VERSION:2.0
PRODID:-//wp-events-plugin.com//7.0.5//EN
TZID:Europe/Berlin
X-WR-TIMEZONE:Europe/Berlin
BEGIN:VEVENT
UID:8958@die-dezentrale.net
DTSTART;TZID=Europe/Berlin:20220817T190000
DTEND;TZID=Europe/Berlin:20220817T210000
DTSTAMP:20220812T113325Z
URL:https://www.die-dezentrale.net/events/mitmach-mittwoch-mit-der-game-ov
 er-society/
SUMMARY:Mitmach-Mittwoch mit der Game Over Society
DESCRIPTION:Mitmach-Mittwoch ist eine partizipative\, kollaborative und vie
 lseitige wöchentliche Veranstaltungsreihe.\nJeden Mittwoch schaffen von n
 un an Regionale und internationale Künstler- und Referent*innen eine Büh
 ne für kreative Begegnungsräume zwischen Bewohnenden\, Nachbarn und inte
 rnationalen Gästen.\n\nDiese Woche tauchen wir mit euch in die Game Over 
 Society ein. Das analoge Netzwerkspiel reflektiert über die Möglichkeite
 n gemeinschaftlicher Transformation und setzt dabei ein spielerisches Expe
 riment in Gang. Ihr gestaltet dessen Inhalt durch euren performativen Akt 
 des Spielens und werdet Teil eines kollektiven Kunstwerk\, in tausend Face
 tten. \n\n\n"Mit freundlicher Unsterstützung der Stadt Kassel und der Kas
 seler Sparkasse"
ATTACH;FMTTYPE=image/jpeg:https://www.die-dezentrale.net/wp-content/upload
 s/2022/08/Figuren-als-Vektor.png
CATEGORIES:action,workshop
LOCATION:Sandershaus | Sander Straße 79\, Kassel\, 34123\, Allemag
 ne
GEO:51.31061;9.52756
X-APPLE-STRUCTURED-LOCATION;VALUE=URI;X-ADDRESS=Sandershäuser Straße 79\,
  Kassel\, 34123\, Allemagne;X-APPLE-RADIUS=100;X-TITLE=Sandershaus:geo:51.
 31061,9.52756
END:VEVENT
BEGIN:VTIMEZONE
TZID:Europe/Berlin
X-LIC-LOCATION:Europe/Berlin
BEGIN:DAYLIGHT
DTSTART:20220327T030000
TZOFFSETFROM:+0100
TZOFFSETTO:+0200
TZNAME:CEST
END:DAYLIGHT
END:VTIMEZONE
END:VCALENDAR