BEGIN:VCALENDAR
VERSION:2.0
PRODID:-//wp-events-plugin.com//7.0.5//EN
TZID:Europe/Berlin
X-WR-TIMEZONE:Europe/Berlin
BEGIN:VEVENT
UID:10727@die-dezentrale.net
DTSTART;TZID=Europe/Berlin:20240323T140000
DTEND;TZID=Europe/Berlin:20240323T160000
DTSTAMP:20240314T172007Z
URL:https://www.die-dezentrale.net/events/mitmachaktion-waldschule-erwacht
 -fruehlingsgefluester/
SUMMARY:Działalność partycypacyjna: Wald(szkoła) erwacht – Frühlingsgeflüster
DESCRIPTION:Dzieci wyłączone 5 Jahren mit Eltern und Großeltern herzlich willkomm
 en:\n\n 	Malen\, Basteln\, Powiedzieć - und ein Wald im Schuhkarton zum Mit
 nehmen.\n\nDie Veranstaltung findet im „Re:Wir Zukunftsladen Wilhelmsh
 öhe“ statt. To miejsce powstaje we współpracy z obywatelami:innen mit d
 er Universität Kassel im Rahmen des Projektes „SDG+ Lab“.\nAlle Aktio
 nen finden Sie unter www.uni-kassel.de/go/rewir Der Eintritt ist frei.
ATTACH;FMTTYPE=image/jpeg:https://www.die-dezentrale.net/wp-content/upload
 s/2024/03/Screenshotneu-29.png
CATEGORIES:akcja,treffen
LOCATION: | \, 
GEO:51.313229;9.445261
X-APPLE-STRUCTURED-LOCATION;VALUE=URI;X-ADDRESS=\, ;X-APPLE-RADIUS=100;X-TI
 TLE=:geo:51.313229,9.445261
END:VEVENT
BEGIN:VTIMEZONE
TZID:Europe/Berlin
X-LIC-LOCATION:Europe/Berlin
BEGIN:STANDARD
DTSTART:20231029T020000
TZOFFSETFROM:+0200
TZOFFSETTO:+0100
TZNAME:CET
END:STANDARD
END:VTIMEZONE
END:VCALENDAR