BEGIN:VCALENDAR
VERSION:2.0
PRODID:-//wp-events-plugin.com//7.0.5//EN
TZID:Europe/Berlin
X-WR-TIMEZONE:Europe/Berlin
BEGIN:VEVENT
UID:10064@die-dezentrale.net
DTSTART;TZID=Europe/Berlin:20241204T200000
DTEND;TZID=Europe/Berlin:20241204T213000
DTSTAMP:20240430T124056Z
URL:HTTPS://www.die-dezentrale.net/events/mittwochstreffen-sandershaus-202
 4-12-04/
SUMMARY:Mittwochstreffen Subterrain
DESCRIPTION:Мы встречаем каждого 1. и 3. Среда месяца в 20:00 im S
 ubterrain des Sandershauses und besprechen kommende und neue Veranstaltung
 en. Zudem wird hier alles Besprochen und Beschlossen was das Subterrain\, 
 Teil des Kellers im Sandershaus\, с уважением. Also was verändert werden sol
 l und neu gebaut werden soll oder halt auch nicht \;)\n\nWir sind ein offe
 nes Plenum und freuen uns wie Bolle auf neue Menschen die mitreden und/ode
 r selbst Veranstaltungen im Subterrain organisieren möchten.\n\nGerne kö
 nnte ihr auch eure Fragen und Anfragen erstmal an unsere E-mail-Adresse ri
 chten: weltsubkulturerbe@gmx.de\n\nOder du kommst nach Lust und Laune einf
 ach spontan an einem Mittwochabend auf ein kühles Getränk bei uns rum.\n
 \nBis später\n\n&nbsp\;
CATEGORIES:treffen
LOCATION:Sandershaus | Sander Straße 79\, Kassel\, 34123\, Гер
 мания
GEO:51.31061;9.52756
X-APPLE-STRUCTURED-LOCATION;VALUE=URI;X-ADDRESS=Sandershäuser Straße 79\,
  Kassel\, 34123\, Германия;X-APPLE-RADIUS=100;X-TITLE=Sandershaus:
 geo:51.31061,9.52756
END:VEVENT
BEGIN:VTIMEZONE
TZID:Europe/Berlin
X-LIC-LOCATION:Europe/Berlin
BEGIN:STANDARD
DTSTART:20241027T020000
TZOFFSETFROM:+0200
TZOFFSETTO:+0100
TZNAME:CET
END:STANDARD
END:VTIMEZONE
END:VCALENDAR