BEGIN:VCALENDAR
VERSION:2.0
PRODID:-//wp-events-plugin.com//7.0.5//EN
TZID:Europe/Berlin
X-WR-TIMEZONE:Europe/Berlin
BEGIN:VEVENT
UID:10353@die-dezentrale.net
DTSTART;TZID=Europe/Berlin:20240301T210000
DTEND;TZID=Europe/Berlin:20240301T210000
DTSTAMP:20240123T142431Z
URL:https://www.die-dezentrale.net/events/molly-punch-donnerhorst/
SUMMARY:Molly Yumruğu + Donnerhorst
DESCRIPTION:Molly Yumruğu (Köln&#039;den isyan grrrl ruhuyla punk rock/grunge). 
 Beim Rumlungern in gewissen Punkzeitschriften wie Plastic Bomb und Trust i
 st es kaum nicht möglich dieser Band noch nicht über den Weg gelesen und
  gehört zu sein. Beim Anklicken auf Bandcamp des neuen Albums „Mouthfee
 l“ welches gerade Mitte Januar erschienen ist\, wird klar\, dass es jetz
 t nochmal richtig los geht. Mit dem Opener „Coven“ ist hier ein abwech
 slungreiches Stück von Punkrock Musik gelungen. Das macht es ziemlich sch
 wierig diese Zeilen zu schrieben\, da Kopf und Bein wild Wippen währendes
 sen dieses Lied läuft. Da ist auch ne ordentliche Grunge-Kante noch mit d
 azu gekommen.\n\nÜberzeug dich selbst:\n\nMouthfeel von Molly Punch\n \n
  Donnerhorst (2-Witzenhausen&#039;dan insan punk rock fırtınası). Eine Halbe Stu
 nde Auto oder Zugfahrt entfernt von Kassel liegt das Witzenhausen\, welche
 s immer wieder in hohem Maße Qualitätspunk hervorbringt. Da muss irgendw
 as im Trinkwasser sein. Bu şapel yepyeni ve bir şekilde gerçekten eski.
  Hier verbergen sich Ex-Mitglieder von Altglas und Volker das Trophe &amp\
 ; die Untergäng\, was bedeutet hier sind Leute durch die Turbostaat\, Rac
 hut Kochschule gegangen und haben die Suppe brav ausgelöffelt\, ausgekotz
 t und Neukreiert. Olması gerektiği şekilde. Es bleibt spannend.\n\nSo in die R
 ichtung wird das gehen:\n\nRaumstation W.I.R.R. von Volker das Trophe &amp
 \; die Untergäng\n\n Einlass ab 20 Saat / Başlamak 21 Uhr\n\nDas Konzert 
 findet im Subterrain des Sandershaus statt.
ATTACH;FMTTYPE=image/jpeg:https://www.die-dezentrale.net/wp-content/upload
 s/2024/01/Molly-Punch-fb.jpg
CATEGORIES:konzert
LOCATION:Sandershaus | Sander Straße 79\, Kassel\, 34123\, Almanya
GEO:51.31061;9.52756
X-APPLE-STRUCTURED-LOCATION;VALUE=URI;X-ADDRESS=Sandershäuser Straße 79\,
  Kassel\, 34123\, Almanya;X-APPLE-RADIUS=100;X-TITLE=Sandershaus:geo:51.31
 061,9.52756
END:VEVENT
BEGIN:VTIMEZONE
TZID:Europe/Berlin
X-LIC-LOCATION:Europe/Berlin
BEGIN:STANDARD
DTSTART:20231029T020000
TZOFFSETFROM:+0200
TZOFFSETTO:+0100
TZNAME:CET
END:STANDARD
END:VTIMEZONE
END:VCALENDAR