BEGIN:VCALENDAR
VERSION:2.0
PRODID:-//wp-events-plugin.com//7.0.5//EN
TZID:Europe/Berlin
X-WR-TIMEZONE:Europe/Berlin
BEGIN:VEVENT
UID:11948@die-dezentrale.net
DTSTART;TZID=Europe/Berlin:20241026T200000
DTEND;TZID=Europe/Berlin:20241026T200000
DTSTAMP:20241001T104938Z
URL:https://www.die-dezentrale.net/events/murder-of-magpies-indiepop/
SUMMARY:Morderstwo sroków (Pop niezależny)
DESCRIPTION:Murder of Magpies stehen für Indiepop der sich durch dreistimm
 ige Harmonien und verspielte Texte auszeichnet. Die Songs erzählen oft Ge
 schichten\, die mit vielen Sprachbildern universelle Themen wie Beziehunge
 n\, aber auch konkrete politische Probleme wie Sexismus oder die Klimakris
 e behandeln. Die Band\, który od 2019 kontinuierlich zu ihren aktuell 5 Mi
 tgliedern gewachsen ist\, hat nun endlich eine EP produziert\, deren Relea
 se am 26.10. z 20 Uhr im Sandershaus mit einem Konzert gefeiert wird. Un
 ter dem Titel “Easy Calculations” wurden drei Songs aufgenommen\, die 
 das weite Spektrum der Band von poppigen Songs wie “Procrastinating” b
 is zu träumerischen Balladen wie “Lullaby” zeigen. Die EP\, die es ab
  dem 25.10. sowohl auf gängigen Streamingplattformen\, aber auch auf Kass
 ette geben wird\, ist nur ein kleiner Ausschnitt der zahlreichen Songs von
  MoM. Beim Konzert wird dagegen ein fast einstündiges Programm präsentie
 rt. Sowohl alte wie auch neue Fans von Murder of Magpies sind herzlich wil
 lkommen\, das Release zusammen beim Konzert zu feiern.\n\n\nEinlass ab 19 
 Zegar / Zacznij od 20 Uhr\n\nEintritt: 8 - 14 €\n\nDas Konzert findet in de
 r Bar des Sandershaus statt.\n\n\nFoto von suffjule\n
ATTACH;FMTTYPE=image/jpeg:https://www.die-dezentrale.net/wp-content/upload
 s/2024/10/Bandfoto-credit-@suffjule-insta-fb-scaled.jpeg
CATEGORIES:konzert
LOCATION:Sandershaus | Sander Straße 79\, Kassel\, 34123\, Germany
GEO:51.31061;9.52756
X-APPLE-STRUCTURED-LOCATION;VALUE=URI;X-ADDRESS=Sandershäuser Straße 79\,
  Kassel\, 34123\, Niemcy;X-APPLE-RADIUS=100;X-TITLE=Sandershaus:geo:51.31
 061,9.52756
END:VEVENT
BEGIN:VTIMEZONE
TZID:Europe/Berlin
X-LIC-LOCATION:Europe/Berlin
BEGIN:DAYLIGHT
DTSTART:20240331T030000
TZOFFSETFROM:+0100
TZOFFSETTO:+0200
TZNAME:CEST
END:DAYLIGHT
END:VTIMEZONE
END:VCALENDAR