BEGIN:VCALENDAR
VERSION:2.0
PRODID:-//wp-events-plugin.com//7.0.5//EN
TZID:Europe/Berlin
X-WR-TIMEZONE:Europe/Berlin
BEGIN:VEVENT
UID:9130@die-dezentrale.net
DTSTART;TZID=Europe/Berlin:20221112T190000
DTEND;TZID=Europe/Berlin:20221112T190000
DTSTAMP:20221101T120915Z
URL:https://www.die-dezentrale.net/events/musik-tanz-performance-tuning-co
 llective-sandershaus-kassel/
SUMMARY:Verim: Tuning Collective
DESCRIPTION:Das Tuning Collective aus Köln mit einer Tanz-Performance im S
 andershaus Kassel. - Vertrauensvoll verantwortungslos oder Verantwortungsv
 oll misstrauisch? - Direkt von einer Probewoche im Künstlerdorf Willingsh
 ausen kommt das Tuning Collective nach Kassel\, um frisch den derzeitigen 
 Stand ihrer kollektiven\, künstlerischen Forschung mit euch zu teilen.\nS
 ie arbeiten improvisatorisch im Zusammenspiel von Musik und Tanz. Dabei en
 tstehen immer wieder neue Situationen\, neue Stimmungen und Überraschunge
 n.\n"Es geht uns darum zu ergründen\, was passiert wenn die Verantwortung
  für den künstlerischen Prozess in der Gruppe\, im Kollektiv verortet is
 t\, also die Regie nicht von einer Person\, ama herkesten geliyor."\nAuc
 h der Ort\, an dem sie auftreten\, ist jedesmal wichtiger Bestandteil ihre
 r Performances und wird in spontan komponierte Stücke eingewebt.\nEs wird
  also spannend…\nDas Tuning Collective aus Köln\, sahip olmak 2021 gegrün
 det. Die internationalen Mitglieder des Ensembles haben sich durch das gem
 einsame Studium an der Hochschule für Musik und Tanz Köln\, kennengelern
 t. Seitdem treten sie regelmäßig zusammen auf und forschen an ihrem kün
 stlerischen Material und der eigenen Sprache.\n\nLink zur Website des Koll
 ektiv:\n\nhttps://database.shareimpro.eu/en/collective-group/tuning-collec
 tive?fbclid=IwAR0kVjahDrG8Irtm6aYbT8Xa3ifVdk1lZSnrh7IDMiJ39-O9ZC7u8VLMLxo\
 n\n12.11.2022\, 19:00 yaklaşık dek. 20:00 Uhr\n\nSpendenempfehlung: 5 - 15 Euro\
 n\nDie Performance findet im Seminarraum des Sandershaus statt.\n\nFoto vo
 n Roswitha Bechtel
ATTACH;FMTTYPE=image/jpeg:https://www.die-dezentrale.net/wp-content/upload
 s/2022/11/Tuningcollective_313383374_6125573250806139_403423532231790913_n
 .jpg
CATEGORIES:eylem,sergi,performance
END:VEVENT
BEGIN:VTIMEZONE
TZID:Europe/Berlin
X-LIC-LOCATION:Europe/Berlin
BEGIN:STANDARD
DTSTART:20221030T020000
TZOFFSETFROM:+0200
TZOFFSETTO:+0100
TZNAME:CET
END:STANDARD
END:VTIMEZONE
END:VCALENDAR