BEGIN:VCALENDAR
VERSION:2.0
PRODID:-//wp-events-plugin.com//7.0.5//EN
TZID:Europe/Berlin
X-WR-TIMEZONE:Europe/Berlin
BEGIN:VEVENT
UID:9221@die-dezentrale.net
DTSTART;TZID=Europe/Berlin:20230204T200000
DTEND;TZID=Europe/Berlin:20230204T200000
DTSTAMP:20230123T193920Z
URL:HTTPS://www.die-dezentrale.net/events/nadine-tusa-band-juergen-mueller
 /
SUMMARY:NADINE TUSA BAND &amp\; Jürgen Müller
DESCRIPTION:Es erwartet dich ein stimmungsvoller Abendspaziergang am Strand
  mit einem erfrischenden Cocktail aus sanften Jazzklängen\, Bossa Rhythme
 n und einem souligen Shot\, 装饰有迷人文字的糖边框
 \, 击中心脏. Viel Vergnügen mit der Nadine Tusa Band &
 amp\; 特邀嘉宾于尔根·穆勒!\n\nBesetung:\n\nNadine Tusa (声乐)\n
 Wolfgang Trübenbach (鼓)\nOle Schmidt (吉他)\nLudger Donath (钢琴)\
 nJürgen Müller (低音) \n\nMitwirkende: 埃莉萨·戈梅拉·迪阿诺 (主唱)\n\n
 Das Konzert findet in der Bar des Sandershaus statt.
ATTACH;FMTTYPE=image/jpeg:HTTPS://www.die-dezentrale.net/wp-content/upload
 s/2023/01/collage.png
CATEGORIES:konzert
LOCATION:Sandershaus | 桑德大街 79\, Kassel\, 34123\, 德国
GEO:51.31061;9.52756
X-APPLE-STRUCTURED-LOCATION;VALUE=URI;X-ADDRESS=Sandershäuser Straße 79\,
  Kassel\, 34123\, 德国;X-APPLE-RADIUS=100;X-TITLE=Sandershaus:geo:51.310
 61,9.52756
END:VEVENT
BEGIN:VTIMEZONE
TZID:Europe/Berlin
X-LIC-LOCATION:Europe/Berlin
BEGIN:STANDARD
DTSTART:20221030T020000
TZOFFSETFROM:+0200
TZOFFSETTO:+0100
TZNAME:CET
END:STANDARD
END:VTIMEZONE
END:VCALENDAR