BEGIN:VCALENDAR
VERSION:2.0
PRODID:-//wp-events-plugin.com//7.0.5//EN
TZID:Europe/Berlin
X-WR-TIMEZONE:Europe/Berlin
BEGIN:VEVENT
UID:10864@die-dezentrale.net
DTSTART;TZID=Europe/Berlin:20240711T193000
DTEND;TZID=Europe/Berlin:20240711T213000
DTSTAMP:20240417T161459Z
URL:HTTPS://www.die-dezentrale.net/events/neue-gesichter-der-kultur/
SUMMARY:Neue Gesichter der Kultur
DESCRIPTION:НОВЫЕ ЛИКИ КУЛЬТУРЫ - eine Gesprächsreihe des KulturNetz
  und der Kulturtopografie Kassel\n\nAuf dem Podium: профессор. доктор. Martin Eberl
 e (Direktor\, Гессен Кассель Наследие)\, профессор. доктор. Феликс Фогель (Universitä
 t Kassel\, Институт Документы).\nModeration: Barbara Ettinger-Brinckmann u
 nd Prof. доктор. Heidi Möller\n\nDer Eintritt ist frei!\n\nOrt:\nSaal im Rest
 aurant Schloss Orangerie\nAn der Karlsaue 20b\n34121 Kassel\nAdresse auf G
 oogleMaps\n\nIm Anschluss gibt es Gelegenheit zu einem persönlichen Austa
 usch bei einem Glas Wasser\, Wein oder …
CATEGORIES:vortrag
END:VEVENT
BEGIN:VTIMEZONE
TZID:Europe/Berlin
X-LIC-LOCATION:Europe/Berlin
BEGIN:DAYLIGHT
DTSTART:20240331T030000
TZOFFSETFROM:+0100
TZOFFSETTO:+0200
TZNAME:CEST
END:DAYLIGHT
END:VTIMEZONE
END:VCALENDAR