BEGIN:VCALENDAR
VERSION:2.0
PRODID:-//wp-events-plugin.com//7.0.5//EN
TZID:Europe/Berlin
X-WR-TIMEZONE:Europe/Berlin
BEGIN:VEVENT
UID:8217@die-dezentrale.net
DTSTART;TZID=Europe/Berlin:20210629T180000
DTEND;TZID=Europe/Berlin:20210629T200000
DTSTAMP:20210623T194256Z
URL:https://www.die-dezentrale.net/events/nordhessen-sagt-phw-ade-infovera
 nstaltung-und-bezugsgruppenfindung-zur-massenaktion-im-juli/
SUMMARY:Hesse del Norte dice: pw ade! Infoveranstaltung und Bezugsgruppenfindun
 g zur Massenaktion im Juli
DESCRIPTION:\n\nDu hast Interesse am Aktionscamp vom Bündnis Gemeinsam geg
 en die Tierindustrie\, eso de 12.-17. Julio tiene lugar en Baja Sajonia? 
 Du suchst noch Menschen\, con quien compartes de la región de Kassel / N
 ordhessen anreisen\, Podéis formar un grupo de afinidad o acampar juntos.?
 \n\nDann komm zu unserem offenen Treffen am Dienstag (29.06.) 18 Uhr in Ka
 ssel! Die Regionalgruppe Nordhessen bietet einen Raum\, in dem wir gemeins
 am die Teilnahme am Camp planen können.\n\nWenn du Lust hast\, dabei zu s
 ein\, Escríbenos y te informaremos la ubicación exacta. Wir freuen uns a
 uf alle Interessierten!\n\n-&gt\; nordhessen@gemeinsam-gegen-die-tierindus
 trie.org\n\nWeitere Infos zum Camp und der Aktion vom Bündnis Gemeinsam g
 egen die Tierindustrie\n\n\n\n
ATTACH;FMTTYPE=image/jpeg:https://www.die-dezentrale.net/wp-content/upload
 s/2021/06/PHW-Ade_Kassel_Sharepic.jpg
CATEGORIES:consulta,aprender,conocer,conferencia,workshop
LOCATION:en otra parte (tba) | Veranstaltungsort\, siehe Veranstaltungsdetails\,
  Alemania
GEO:51.315716;9.497871
X-APPLE-STRUCTURED-LOCATION;VALUE=URI;X-ADDRESS=Veranstaltungsort\, siehe V
 eranstaltungsdetails\, Alemania;X-APPLE-RADIUS=100;X-TITLE=Woanders (tba):
 geo:51.315716,9.497871
END:VEVENT
BEGIN:VTIMEZONE
TZID:Europe/Berlin
X-LIC-LOCATION:Europe/Berlin
BEGIN:DAYLIGHT
DTSTART:20210328T030000
TZOFFSETFROM:+0100
TZOFFSETTO:+0200
TZNAME:CEST
END:DAYLIGHT
END:VTIMEZONE
END:VCALENDAR