BEGIN:VCALENDAR
VERSION:2.0
PRODID:-//wp-events-plugin.com//7.0.5//EN
TZID:Europe/Berlin
X-WR-TIMEZONE:Europe/Berlin
BEGIN:VEVENT
UID:7433@die-dezentrale.net
DTSTART;TZID=Europe/Berlin:20200830T160000
DTEND;TZID=Europe/Berlin:20200830T180000
DTSTAMP:20200714T081308Z
URL:https://www.die-dezentrale.net/events/offen-an-der-halitstrasse/
SUMMARY:açık! ...an der Halitstraße
DESCRIPTION:Ein Teil der Idee des Infoladens ist\, ihn als sozialen Raum zu
  verstehen\, der genutzt werden darf\, zum Austausch\, abhängen\, oder si
 ch informieren. Das geht natürlich am Besten\, wenn die Tür geöffnet is
 t.\nIhr könnt gerne vorbei kommen und in unseren Zeitungen oder Büchern 
 schmökern\, Kaffee oder was Anderes trinken\, kickern\, duschen\, Spiele 
 spielen oder euch mit irgendwelchen Fragen an uns wenden.\n\nDraußen vor 
 der Tür wird es Sitzgelegenheiten geben\, so dass viel Luft und Abstand g
 ewährleistet ist\, ama yine de bir araya gelebiliriz. Mehr Inform
 ationen zu Covid-19 und Veranstaltungen im Infoladen findet ihr auf unsere
 r Website: http://infoladenkassel.blogsport.eu/2020/07/08/veranstaltungen-
 und-covid-19/\n\n----\nBarrieren: Die Räume des Infoladens sind nur über
  eine Stufe zu erreichen\, für die jedoch eine Rollstuhlrampe vorhanden i
 st. Halitstraße at Infoshop ... sigara içilmez temelde. Die
  Toilettenräume sind nicht Rollstuhl geeignet. Ein Wickeltisch ist vorhan
 den.\n\nAusschlussklausel: Die Veranstaltenden behalten sich vor\, von ihr
 em Hausrecht Gebrauch zu machen und Personen\, die nationalistischen und/o
 der rechten Parteien oder Organisationen angehören\, der rechten Szene zu
 zuorden\, oder durch sexistische\, trans*feindliche\, homofeindliche\, ras
 sistische\, nationalistische\, verschwörungsideologische\, antisemitische
  oder sonstige menschenverachtende Äußerungen in Erscheinung getreten si
 nd\, den Zutritt zur Veranstaltung zu verwehren oder von dieser auszuschli
 eßen.\n&nbsp\;
CATEGORIES:treffen
LOCATION:Infoladen Halitstraße | Hollandalı Sokak 88\, Kassel\, Hesse
 n\, 34127\, Almanya
GEO:51.32861;9.499718
X-APPLE-STRUCTURED-LOCATION;VALUE=URI;X-ADDRESS=Holländische Strasse 88\, 
 Kassel\, Hessen\, 34127\, Almanya;X-APPLE-RADIUS=100;X-TITLE=Infoladen Hal
 itstraße:geo:51.32861,9.499718
END:VEVENT
BEGIN:VTIMEZONE
TZID:Europe/Berlin
X-LIC-LOCATION:Europe/Berlin
BEGIN:DAYLIGHT
DTSTART:20200329T030000
TZOFFSETFROM:+0100
TZOFFSETTO:+0200
TZNAME:CEST
END:DAYLIGHT
END:VTIMEZONE
END:VCALENDAR