BEGIN:VCALENDAR
VERSION:2.0
PRODID:-//wp-events-plugin.com//7.0.5//EN
TZID:Europe/Berlin
X-WR-TIMEZONE:Europe/Berlin
BEGIN:VEVENT
UID:11833@die-dezentrale.net
DTSTART;TZID=Europe/Berlin:20241011T210000
DTEND;TZID=Europe/Berlin:20241011T210000
DTSTAMP:20240923T130243Z
URL:HTTPS://www.die-dezentrale.net/events/offene-buehne-jam-jam-kastanien-
 session/
SUMMARY:开放舞台: Jam Jam „Kastanien“-Session
DESCRIPTION:\n\nJam Jam Session: Die offene Bühne der Kulturfabrik Salzman
 n am Kupferhammer. Alle\, die Lust auf Live-Musik haben\, sind herzlich ei
 ngeladen! Ob als Musizierende oder als Publikum.\n\nBands und Solist*innen
  aller Musikrichtungen können die offene Bühne für wechselnde 20 Minute
 n-Sets nutzen. 后防线已就位——包括. Schlagzeug\, git. Amps\, Keybo
 ard\, 一把贝斯和一把吉他. 请携带其他乐器.
  Kurze Umbaupausen.\n\n\n\n\n 	Beginn: 21 Uhr\n 	Eintritt frei\n 	Veransta
 ltungsort: Spielstätte der Kulturfabrik Salzmann am Kupferhammer\, Leipzi
 ger Straße 407\, 34123 Kassel\n 	ÖPNV: 电车 4 + 8\, 停止 "Am Kupf
 erhammer"\n 	Reservierung für Auftretende ist nicht notwendig\, aber gern
  gesehen per E-Mail an: info@kulturfabrik-kassel.de\n\nFoto © O. Henke
CATEGORIES:konzert
LOCATION:Kulturfabrik萨尔兹曼 (在铜锤上) | 莱比锡大街 407\, 
 Kassel\, Hessen\, 34123\, 德国
GEO:51.294032;9.557798
X-APPLE-STRUCTURED-LOCATION;VALUE=URI;X-ADDRESS=Leipziger Straße 407\, Kas
 sel\, Hessen\, 34123\, 德国;X-APPLE-RADIUS=100;X-TITLE=Kulturfabrik Salz
 mann (在铜锤上):geo:51.294032,9.557798
END:VEVENT
BEGIN:VTIMEZONE
TZID:Europe/Berlin
X-LIC-LOCATION:Europe/Berlin
BEGIN:DAYLIGHT
DTSTART:20240331T030000
TZOFFSETFROM:+0100
TZOFFSETTO:+0200
TZNAME:CEST
END:DAYLIGHT
END:VTIMEZONE
END:VCALENDAR