BEGIN:VCALENDAR
VERSION:2.0
PRODID:-//wp-events-plugin.com//7.0.5//EN
TZID:Europe/Berlin
X-WR-TIMEZONE:Europe/Berlin
BEGIN:VEVENT
UID:9741@die-dezentrale.net
DTSTART;TZID=Europe/Berlin:20230630T180000
DTEND;TZID=Europe/Berlin:20230630T200000
DTSTAMP:20230629T092303Z
URL:https://www.die-dezentrale.net/events/offene-gewerkschaftliche-beratun
 g-6/
SUMMARY:Offene gewerkschaftliche Beratung
DESCRIPTION:Arbeitsverhältnisse sind in diesem Wirtschaftssystem grundsät
 zlich konfliktbeladen. Die Interessen von uns Arbeiter*innen und Angestell
 ten stehen den Profitinteressen der Arbeitgeber*innen\, der Eigentümer*in
 nen und Aktionär*innen entgegen. Die Einhaltung der in den vergangenen Ja
 hrhunderten erkämpften Rechte müssen daher immer wieder erstritten und e
 rkämpft werden. Dies gelingt besser\, wenn wir uns dabei nicht allein mit
  unseren Bossen und Personalchefs rumschlagen müssen\, sondern organisier
 t zusammen kämpfen!\n\nDu meinst\, dir steht noch Lohn zu\, aber deine Ar
 beitgeber*innen sehen das anders? Dein Urlaub wird dir nicht genehmigt? Du
  findest mit deiner Kündigung ist etwas nicht in Ordnung? In eurem Betrie
 b läuft grundlegend einiges falsch und ihr wollt euch organisieren? Du w
 ärst gerne Mitglied in einer kämpferischen Basisgewerkschaft?\n\nSchreib
  uns eine Nachricht mit deinen Problemen an fauks-beratung@fau.org oder qu
 atsch uns auf den AB 0561/87947814 (und vergiss nicht\, uns deinen Kontakt
  zu hinterlassen).\n\nOder kommt einfach in unsere offene gewerkschaftlich
 e Beratung jedem letzten Freitag im Monat zwischen 18 Horloge et 20 Uhr im Cl
 ub (Weserstraße 17).\n
ATTACH;FMTTYPE=image/jpeg:https://www.die-dezentrale.net/wp-content/upload
 s/2023/06/gerwerkschaftliche-beratung-e1688030456246.png
CATEGORIES:action,des conseils,treffen
LOCATION:Club Commune | Weserstr. 17\, Kassel\, Hessen\, 34125\, Allemagne
GEO:51.320313;9.509872
X-APPLE-STRUCTURED-LOCATION;VALUE=URI;X-ADDRESS=Weserstr. 17\, Kassel\, Hes
 sen\, 34125\, Allemagne;X-APPLE-RADIUS=100;X-TITLE=Club Commune:geo:51.320
 313,9.509872
END:VEVENT
BEGIN:VTIMEZONE
TZID:Europe/Berlin
X-LIC-LOCATION:Europe/Berlin
BEGIN:DAYLIGHT
DTSTART:20230326T030000
TZOFFSETFROM:+0100
TZOFFSETTO:+0200
TZNAME:CEST
END:DAYLIGHT
END:VTIMEZONE
END:VCALENDAR