BEGIN:VCALENDAR
VERSION:2.0
PRODID:-//wp-events-plugin.com//7.0.5//EN
TZID:Europe/Berlin
X-WR-TIMEZONE:Europe/Berlin
BEGIN:VEVENT
UID:8049@die-dezentrale.net
DTSTART;TZID=Europe/Berlin:20201203T190000
DTEND;TZID=Europe/Berlin:20201203T210000
DTSTAMP:20201130T100852Z
URL:https://www.die-dezentrale.net/events/offene-tueren-fuer-diskriminieru
 ng-entwicklung-der-wohungspolitik-in-deutschland/
SUMMARY:افتح الأبواب للتمييز - Entwicklung der Wohungspolitik
  in Deutschland
DESCRIPTION:&nbsp\;\n\n\n\nDigitaler Vortrag mit Eva Gertz\nlive und online
 : https://youtu.be/ZOxh164uC9Y\n\nDie deutsche Wohnungspolitik hat seit de
 r Nachkriegszeit einen großen Wandel durchlebt. Wo einst Wohnraum für al
 le Teile der Bevölkerung das Ziel von Wohnungspolitik war\, steht seit ü
 ber 20 سنوات من التركيز على سوق الإسكان المربح. Infolge dieser
  Entwicklung hat sich bezahlbarer Wohnraum deutlich verringert\, ist Diskr
 iminierung auf dem Wohnungsmarkt gestiegen - wenn auch oft verdeckt.\n\nÜ
 ber diese Entwicklungen informiert die Politikwissenschaftlerin Eva Gertz 
 in ihrem Vortrag. Im Anschluss werden Fragen diskutiert\, wie sich die Woh
 nungspolitik in Kassel im bundesweiten Vergleich entwickelt hat\, wie die 
 Entwicklung von Wohnungspolitik und Diskriminierung zusammen wirkt und was
  kommunalpolitisch dagegen unternommen werden kann.\n\nEine Veranstaltung 
 des AdiNet Nordhessen und der AG Wohnraum für ALLE.
CATEGORIES:vortrag
END:VEVENT
BEGIN:VTIMEZONE
TZID:Europe/Berlin
X-LIC-LOCATION:Europe/Berlin
BEGIN:STANDARD
DTSTART:20201025T020000
TZOFFSETFROM:+0200
TZOFFSETTO:+0100
TZNAME:CET
END:STANDARD
END:VTIMEZONE
END:VCALENDAR