BEGIN:VCALENDAR
VERSION:2.0
PRODID:-//wp-events-plugin.com//7.0.5//EN
TZID:Europe/Berlin
X-WR-TIMEZONE:Europe/Berlin
BEGIN:VEVENT
UID:6970@die-dezentrale.net
DTSTART;TZID=Europe/Berlin:20200310T160000
DTEND;TZID=Europe/Berlin:20200310T190000
DTSTAMP:20200305T124317Z
URL:https://www.die-dezentrale.net/events/offener-feministischer-raum-auss
 tellung-zu-feministischer-geschichte-in-kassel-2020-03-10/
SUMMARY:Ausstellung zu feministischer Geschichte in Kassel
DESCRIPTION:Wir glauben\, dass es angesichts der aktuellen Lage eine starke
  feministische Basis braucht. Daher bieten wir vom 09. bis zum 15. März e
 inen offenen feministischen Raum an. In unterschiedlichen feministischen S
 trömungen wollen wir hier zusammenkommen\, um uns auszutauschen und vonei
 nander zu lernen.\n\nVon Rojava lernen\, heißt auch\, aus ֵder eigenen W
 iderstandsgeschichte zu lernen. Für ֵKassel mochten wir die Geschichte d
 er feministischen Kampfe im Rahmen einer Ausstellung sichtbarer machen. Ko
 mmt dafür mit euren eigenen Fotos\, Infos\, Erzählungen\, Zeitungsartike
 ln etc\, vorbei\, um die Ausstellung zu ergänzen. Die Ausstellung kann vo
 m 10.03. bis zum 13.03. ab 16 Uhr von allen besichtigt und ergänzt werden
 .\n\nZum anderen werden jeden Abend verschiedene Veranstaltungen stattfind
 en (siehe Programm oder hier in der Dezentrale. Wir ֵfreuen uns\, wenn ih
 r vorbeischaut. Dazu müsst ihr nicht bereits in einer feministischen Grup
 pe sein oder besonders viel gelesen haben. Die Veranstaltungen sind aussch
 ließlich offen für Frauen\, Lesben sowie inter\, nicht- binare und trans
  Personen (FLINT).
ATTACH;FMTTYPE=image/jpeg:https://www.die-dezentrale.net/wp-content/upload
 s/2020/03/AusstellungFlyerwdrready-Seite001_final.jpg
CATEGORIES:ausstellung
END:VEVENT
BEGIN:VTIMEZONE
TZID:Europe/Berlin
X-LIC-LOCATION:Europe/Berlin
BEGIN:STANDARD
DTSTART:20191027T020000
TZOFFSETFROM:+0200
TZOFFSETTO:+0100
TZNAME:CET
END:STANDARD
END:VTIMEZONE
END:VCALENDAR