BEGIN:VCALENDAR
VERSION:2.0
PRODID:-//wp-events-plugin.com//7.0.5//EN
TZID:Europe/Berlin
X-WR-TIMEZONE:Europe/Berlin
BEGIN:VEVENT
UID:10449@die-dezentrale.net
DTSTART;TZID=Europe/Berlin:20240405T183000
DTEND;TZID=Europe/Berlin:20240405T210000
DTSTAMP:20240202T142128Z
URL:https://www.die-dezentrale.net/events/offenes-antifaschistisches-treff
 en-2024-04-05/
SUMMARY:Offenes antifaschistisches Treffen
DESCRIPTION:\n\nNervt es dich auch\, dass zu wenig gegen rechte Tendenzen 
 getan wird? Dass die AfD sich im Bundestag festsetzt\, während Nazis mord
 en? Vous sentez-vous impuissant face aux nombreuses crises qui vous entourent
 ? Abschiebungen\, Polizeigewalt\, rassistische Übergriffen\, der täglic
 hen Anmache\, le compte vide à la fin du mois? Würdest du gerne akti
 v werden dagegen und gemeinsam linke\, Développer des idées solidaires?\n\nF
 ast wöchentlich werden in Deutschland rechte Netzwerke und Waffenlager au
 fgedeckt\, rassistische und antisemitische Übergriffe sind trauriger und 
 gefährlicher Alltag geworden\, während AfD\, aber auch ‚Konservative
 ‘ aus Reihen von CDU/CSU\, rendre les bonnes pensées normales.
  Vom Staat erwarten wir nichts\, außer den immer gleichen Reden\, denen k
 eine Taten folgen. Aussi bien que? Wer Teil des Problems ist\, wird keine Lösun
 gen liefern. Wir wissen\, dass wir uns organisieren müssen\, um der Ohnma
 cht und dem Alleinsein entgegenzuwirken. Allein wird das nicht funktionier
 en.\n\nDafür brauchen wir mehr Orte an denen wir zusammenkommen\, uns aus
 tauschen und planen können. Das Offene Antifaschistische Treffen soll so 
 ein Ort sein – offen für eure Ideen\, eure Wut und unsere Selbstorganis
 ierung. Konsequent antifaschistisch.\n\n\nKomm zum Offenen antifaschistisc
 hen Treffen!\n\nWechselnde Orte\, actuellement Gutenbergstrasse 9.
CATEGORIES:treffen
END:VEVENT
BEGIN:VTIMEZONE
TZID:Europe/Berlin
X-LIC-LOCATION:Europe/Berlin
BEGIN:DAYLIGHT
DTSTART:20240331T030000
TZOFFSETFROM:+0100
TZOFFSETTO:+0200
TZNAME:CEST
END:DAYLIGHT
END:VTIMEZONE
END:VCALENDAR