BEGIN:VCALENDAR
VERSION:2.0
PRODID:-//wp-events-plugin.com//7.0.5//EN
TZID:Europe/Berlin
X-WR-TIMEZONE:Europe/Berlin
BEGIN:VEVENT
UID:9823@die-dezentrale.net
DTSTART;TZID=Europe/Berlin:20230803T183000
DTEND;TZID=Europe/Berlin:20230803T200000
DTSTAMP:20230802T103432Z
URL:https://www.die-dezentrale.net/events/offenes-treffen-der-hilfskraefte
 initiative-kassel-open-meeting-of-hilfskraefte-initiative-kassel/
SUMMARY:Offenes Treffen der Hilfskräfteinitiative Kassel. // Open Meeting 
 of Hilfskräfte Initiative Kassel.
DESCRIPTION:[Deutsch\; English below] Unsere Treffen finden regelmäßig st
 att: jeden ersten und dritten Donnerstag im Monat. Immer um 18:30 im Café
  Desasta (Campus am Holländischen Platz\; Arnold-Bode-Straße 6). Somit a
 uch am Donnerstag (3 August. 2023). Wir freuen auf Euch!\n\nEnglish: Our m
 eetings take place regularly: every first and third Thursday of the month.
  Always 6:30 p.m. at Café Desasta (Campus at Holländischer Platz\; Arnol
 d-Bode-Straße 6). So also on this Thursday (3rd of August 2023). We look 
 forward to new (and old) faces!\n\n&nbsp\;
ATTACH;FMTTYPE=image/jpeg:https://www.die-dezentrale.net/wp-content/upload
 s/2023/08/flyer_klein.jpg
CATEGORIES:beratung,sonstiges,treffen
LOCATION:Café DesAStA | Arnold-Bode-Straße 6\, Kassel\, Hessen\, 34127\, 
 Deutschland
GEO:51.322834;9.504107
X-APPLE-STRUCTURED-LOCATION;VALUE=URI;X-ADDRESS=Arnold-Bode-Straße 6\, Kas
 sel\, Hessen\, 34127\, Deutschland;X-APPLE-RADIUS=100;X-TITLE=Café DesASt
 A:geo:51.322834,9.504107
END:VEVENT
BEGIN:VTIMEZONE
TZID:Europe/Berlin
X-LIC-LOCATION:Europe/Berlin
BEGIN:DAYLIGHT
DTSTART:20230326T030000
TZOFFSETFROM:+0100
TZOFFSETTO:+0200
TZNAME:CEST
END:DAYLIGHT
END:VTIMEZONE
END:VCALENDAR