BEGIN:VCALENDAR
VERSION:2.0
PRODID:-//wp-events-plugin.com//7.0.5//EN
TZID:Europe/Berlin
X-WR-TIMEZONE:Europe/Berlin
BEGIN:VEVENT
UID:9823@die-dezentrale.net
DTSTART;TZID=Europe/Berlin:20230803T183000
DTEND;TZID=Europe/Berlin:20230803T200000
DTSTAMP:20230802T103432Z
URL:https://www.die-dezentrale.net/events/offenes-treffen-der-hilfskraefte
 initiative-kassel-open-meeting-of-hilfskraefte-initiative-kassel/
SUMMARY:اجتماع مفتوح لمبادرة الموظفين المساعدين في كاسل. // Open Meeting 
 of Hilfskräfte Initiative Kassel.
DESCRIPTION:[Deutsch\; الإنجليزية أدناه] Unsere Treffen finden regelmäßig st
 att: كل أول وثالث خميس من الشهر. دائما حولها 18:30 im Café
  Desasta (Campus am Holländischen Platz\; أرنولد-بودي-شتراسه 6). Somit a
 uch am Donnerstag (3 أغسطس. 2023). ونحن نتطلع إلى رؤيتك!\n\nEnglish: Our m
 eetings take place regularly: كل أول وثالث خميس من الشهر.
  دائماً 6:30 مساء. في مقهى ديستاتا (Campus at Holländischer Platz\; Arnol
 d-Bode-Straße 6). وكذلك في هذا الخميس أيضاً (3الثالث من أغسطس 2023). We look 
 forward to new (وقديمة) وجوه!\n\n&nbsp\;
ATTACH;FMTTYPE=image/jpeg:https://www.die-dezentrale.net/wp-content/upload
 s/2023/08/flyer_klein.jpg
CATEGORIES:تشاور,آخر,treffen
LOCATION:Café DesAStA | أرنولد-بودي-شتراسه 6\, Kassel\, Hessen\, 34127\, 
 ألمانيا
GEO:51.322834;9.504107
X-APPLE-STRUCTURED-LOCATION;VALUE=URI;X-ADDRESS=Arnold-Bode-Straße 6\, Kas
 sel\, Hessen\, 34127\, ألمانيا;X-APPLE-RADIUS=100;X-TITLE=Café Des
 AStA:geo:51.322834,9.504107
END:VEVENT
BEGIN:VTIMEZONE
TZID:Europe/Berlin
X-LIC-LOCATION:Europe/Berlin
BEGIN:DAYLIGHT
DTSTART:20230326T030000
TZOFFSETFROM:+0100
TZOFFSETTO:+0200
TZNAME:CEST
END:DAYLIGHT
END:VTIMEZONE
END:VCALENDAR