BEGIN:VCALENDAR
VERSION:2.0
PRODID:-//wp-events-plugin.com//7.0.5//EN
TZID:Europe/Berlin
X-WR-TIMEZONE:Europe/Berlin
BEGIN:VEVENT
UID:9823@die-dezentrale.net
DTSTART;TZID=Europe/Berlin:20230803T183000
DTEND;TZID=Europe/Berlin:20230803T200000
DTSTAMP:20230802T103432Z
URL:https://www.die-dezentrale.net/events/offenes-treffen-der-hilfskraefte
 initiative-kassel-open-meeting-of-hilfskraefte-initiative-kassel/
SUMMARY:Reunión abierta de la iniciativa de personal auxiliar de Kassel. // Open Meeting 
 of Hilfskräfte Initiative Kassel.
DESCRIPTION:[Deutsch\; Inglés a continuación] Unsere Treffen finden regelmäßig st
 att: cada primer y tercer jueves del mes. Siempre alrededor 18:30 im Café
  Desasta (Campus am Holländischen Platz\; Arnold-Bode-Straße 6). Somit a
 uch am Donnerstag (3 agosto. 2023). Esperamos verte!\n\nEnglish: Our m
 eetings take place regularly: cada primer y tercer jueves del mes.
  Siempre 6:30 pm. en Café Desasta (Campus at Holländischer Platz\; Arnol
 d-Bode-Straße 6). Así también este jueves (34 de agosto 2023). We look 
 forward to new (y viejo) caras!\n\n&nbsp\;
ATTACH;FMTTYPE=image/jpeg:https://www.die-dezentrale.net/wp-content/upload
 s/2023/08/flyer_klein.jpg
CATEGORIES:consulta,otro,treffen
LOCATION:Café DesAStA | Arnold-Bode-Straße 6\, Kassel\, Hessen\, 34127\, 
 Alemania
GEO:51.322834;9.504107
X-APPLE-STRUCTURED-LOCATION;VALUE=URI;X-ADDRESS=Arnold-Bode-Straße 6\, Kas
 sel\, Hessen\, 34127\, Alemania;X-APPLE-RADIUS=100;X-TITLE=Café DesAStA:g
 eo:51.322834,9.504107
END:VEVENT
BEGIN:VTIMEZONE
TZID:Europe/Berlin
X-LIC-LOCATION:Europe/Berlin
BEGIN:DAYLIGHT
DTSTART:20230326T030000
TZOFFSETFROM:+0100
TZOFFSETTO:+0200
TZNAME:CEST
END:DAYLIGHT
END:VTIMEZONE
END:VCALENDAR