BEGIN:VCALENDAR
VERSION:2.0
PRODID:-//wp-events-plugin.com//7.0.5//EN
TZID:Europe/Berlin
X-WR-TIMEZONE:Europe/Berlin
BEGIN:VEVENT
UID:9823@die-dezentrale.net
DTSTART;TZID=Europe/Berlin:20230803T183000
DTEND;TZID=Europe/Berlin:20230803T200000
DTSTAMP:20230802T103432Z
URL:https://www.die-dezentrale.net/events/offenes-treffen-der-hilfskraefte
 initiative-kassel-open-meeting-of-hilfskraefte-initiative-kassel/
SUMMARY:Kassel yardımcı personel girişiminin açık toplantısı. // Open Meeting 
 of Hilfskräfte Initiative Kassel.
DESCRIPTION:[Deutsch\; aşağıda ingilizce] Unsere Treffen finden regelmäßig st
 att: her ayın birinci ve üçüncü Perşembe günü. Her zaman etrafta 18:30 im Café
  Desasta (Campus am Holländischen Platz\; Arnold-Bode-Straße 6). Somit a
 uch am Donnerstag (3 August. 2023). Sizi görmeyi sabırsızlıkla bekliyoruz!\n\nEnglish: Our m
 eetings take place regularly: her ayın birinci ve üçüncü Perşembe günü.
  Her zaman 6:30 p.m. Café Desasta&#039;da (Campus at Holländischer Platz\; Arnol
 d-Bode-Straße 6). Bu perşembe günü de (3ağustos ayının üçüncüsü 2023). We look 
 forward to new (ve eski) yüzler!\n\n&nbsp\;
ATTACH;FMTTYPE=image/jpeg:https://www.die-dezentrale.net/wp-content/upload
 s/2023/08/flyer_klein.jpg
CATEGORIES:konsültasyon,diğer,treffen
LOCATION:kahve DesAStA | Arnold-Bode-Straße 6\, Kassel\, Hessen\, 34127\, 
 Almanya
GEO:51.322834;9.504107
X-APPLE-STRUCTURED-LOCATION;VALUE=URI;X-ADDRESS=Arnold-Bode-Straße 6\, Kas
 sel\, Hessen\, 34127\, Almanya;X-APPLE-RADIUS=100;X-TITLE=Café DesAStA:ge
 o:51.322834,9.504107
END:VEVENT
BEGIN:VTIMEZONE
TZID:Europe/Berlin
X-LIC-LOCATION:Europe/Berlin
BEGIN:DAYLIGHT
DTSTART:20230326T030000
TZOFFSETFROM:+0100
TZOFFSETTO:+0200
TZNAME:CEST
END:DAYLIGHT
END:VTIMEZONE
END:VCALENDAR