BEGIN:VCALENDAR
VERSION:2.0
PRODID:-//wp-events-plugin.com//7.0.5//EN
TZID:Europe/Berlin
X-WR-TIMEZONE:Europe/Berlin
BEGIN:VEVENT
UID:9823@die-dezentrale.net
DTSTART;TZID=Europe/Berlin:20230803T183000
DTEND;TZID=Europe/Berlin:20230803T200000
DTSTAMP:20230802T103432Z
URL:HTTPS://www.die-dezentrale.net/events/offenes-treffen-der-hilfskraefte
 initiative-kassel-open-meeting-of-hilfskraefte-initiative-kassel/
SUMMARY:卡塞尔辅助人员倡议公开会议. // Open Meeting 
 of Hilfskräfte Initiative Kassel.
DESCRIPTION:[Deutsch\; 下面是英文] Unsere Treffen finden regelmäßig st
 att: 每个月的第一个和第三个星期四. 一直在身边 18:30 im Café
  Desasta (Campus am Holländischen Platz\; 阿诺德 - 波特 - 大街 6). Somit a
 uch am Donnerstag (3 八月. 2023). 我们期待见到您!\n\nEnglish: Our m
 eetings take place regularly: 每个月的第一个和第三个星期四.
  总是 6:30 下午. 在德萨斯塔咖啡馆 (Campus at Holländischer Platz\; Arnol
 d-Bode-Straße 6). 本周四也是如此 (3八月一日 2023). We look 
 forward to new (和旧的) 面孔!\n\n&nbsp\;
ATTACH;FMTTYPE=image/jpeg:HTTPS://www.die-dezentrale.net/wp-content/upload
 s/2023/08/flyer_klein.jpg
CATEGORIES:咨询服务,其他,treffen
LOCATION:咖啡DesAStA | 阿诺德 - 波特 - 大街 6\, Kassel\, Hessen\, 34127\, 
 德国
GEO:51.322834;9.504107
X-APPLE-STRUCTURED-LOCATION;VALUE=URI;X-ADDRESS=Arnold-Bode-Straße 6\, Kas
 sel\, Hessen\, 34127\, 德国;X-APPLE-RADIUS=100;X-TITLE=Café DesAStA:geo
 :51.322834,9.504107
END:VEVENT
BEGIN:VTIMEZONE
TZID:Europe/Berlin
X-LIC-LOCATION:Europe/Berlin
BEGIN:DAYLIGHT
DTSTART:20230326T030000
TZOFFSETFROM:+0100
TZOFFSETTO:+0200
TZNAME:CEST
END:DAYLIGHT
END:VTIMEZONE
END:VCALENDAR