BEGIN:VCALENDAR
VERSION:2.0
PRODID:-//wp-events-plugin.com//7.0.5//EN
TZID:Europe/Berlin
X-WR-TIMEZONE:Europe/Berlin
BEGIN:VEVENT
UID:14603@die-dezentrale.net
DTSTART;TZID=Europe/Berlin:20260115T183000
DTEND;TZID=Europe/Berlin:20260115T201500
DTSTAMP:20251209T084635Z
URL:https://www.die-dezentrale.net/events/ohne-kohle-kein-ausstieg-die-soz
 ial-oekologische-transformation-finanzieren-mit-prof-dr-andreas-fisahn-und
 -dr-katja-rietzler/
SUMMARY:"Pas de sortie sans charbon: die sozial-ökologische Transformation f
 inanzieren" avec le Prof. Dr. Andreas Fisahn et le Dr. Katja Rietzler
DESCRIPTION:\n\n\n15.01.2026 | 18.30 Horloge | "Pas de sortie sans charbon: die s
 ozial-ökologische Transformation finanzieren" avec le Prof. Dr. Andreas Fisah
 n und Dr. Katja Rietzler\nEine Veranstaltung des Promotionskollegs "JUSTE -
  Transformation équitable et durable" der Hans-Böckler-Stiftung\n\n\n
 \n\n\n\nWann? 15. janvier 2026 un 18:30 Uhr\n\nWo? UNI:Lokal\, Wilhelmsstra
 ße 21\, 34117 Kassel\n\nVortrags- und Diskussionsveranstaltung mit Prof. 
 Dr. Andreas Fisahn (Lehrstuhl für öffentliches Recht\, environnement- und Techn
 ikrecht\, Théorie du droit à l&#039;Université de Bielefeld) und Dr. Katja Rietzler (Inst
 itut für Makroökonomie und Konjunkturforschung der Hans-Böckler-Stiftun
 g)\n\nModeration: Prof. Dr. Félix Welti (Département des affaires sociales- und Gesun
 dheitsrecht\, Recht der Rehabilitation und Behinderung\, Universität Kass
 el)\n\nDie Veranstaltung kann auch online\, peut être suivi via Zoom. Für
  den Link bitten wir um eine E-Mail an: just@uni-kassel.de\n\n&nbsp\;\n\n\
 n\n\n\n
ATTACH;FMTTYPE=image/jpeg:https://www.die-dezentrale.net/wp-content/upload
 s/2025/12/Ohne-Kohle-kein-Ausstieg.jpg
CATEGORIES:apprendre,vortrag
END:VEVENT
BEGIN:VTIMEZONE
TZID:Europe/Berlin
X-LIC-LOCATION:Europe/Berlin
BEGIN:STANDARD
DTSTART:20251026T020000
TZOFFSETFROM:+0200
TZOFFSETTO:+0100
TZNAME:CET
END:STANDARD
END:VTIMEZONE
END:VCALENDAR