BEGIN:VCALENDAR
VERSION:2.0
PRODID:-//wp-events-plugin.com//7.0.5//EN
TZID:Europe/Berlin
X-WR-TIMEZONE:Europe/Berlin
BEGIN:VEVENT
UID:14603@die-dezentrale.net
DTSTART;TZID=Europe/Berlin:20260115T183000
DTEND;TZID=Europe/Berlin:20260115T201500
DTSTAMP:20251209T084635Z
URL:https://www.die-dezentrale.net/events/ohne-kohle-kein-ausstieg-die-soz
 ial-oekologische-transformation-finanzieren-mit-prof-dr-andreas-fisahn-und
 -dr-katja-rietzler/
SUMMARY:"Nie ma wyjścia bez węgla: die sozial-ökologische Transformation f
 inanzieren" z prof. dr. Andreasa Fisahna i dr. Katja Rietzler
DESCRIPTION:\n\n\n15.01.2026 | 18.30 Zegar | "Nie ma wyjścia bez węgla: die s
 ozial-ökologische Transformation finanzieren" z prof. dr. Andreas Fisah
 n und Dr. Katja Rietzler\nEine Veranstaltung des Promotionskollegs "TYLKO -
  Sprawiedliwa i trwała transformacja" der Hans-Böckler-Stiftung\n\n\n
 \n\n\n\nWann? 15. styczeń 2026 jeden 18:30 Uhr\n\nWo? Uni:Lokal\, Wilhelmsstra
 ße 21\, 34117 Kassel\n\nVortrags- und Diskussionsveranstaltung mit Prof. 
 dr. Andreasa Fisahna (Lehrstuhl für öffentliches Recht\, Środowisko- und Techn
 ikrecht\, Teoria prawa na Uniwersytecie w Bielefeld) i dr. Katji Rietzler (Inst
 itut für Makroökonomie und Konjunkturforschung der Hans-Böckler-Stiftun
 g)\n\nModeration: prof. dr. Feliks Welti (Departament Społeczny- und Gesun
 dheitsrecht\, Recht der Rehabilitation und Behinderung\, Universität Kass
 el)\n\nDie Veranstaltung kann auch online\, można śledzić na Zoomie. Für
  den Link bitten wir um eine E-Mail an: just@uni-kassel.de\n\n&nbsp\;\n\n\
 n\n\n\n
ATTACH;FMTTYPE=image/jpeg:https://www.die-dezentrale.net/wp-content/upload
 s/2025/12/Ohne-Kohle-kein-Ausstieg.jpg
CATEGORIES:uczyć się,vortrag
END:VEVENT
BEGIN:VTIMEZONE
TZID:Europe/Berlin
X-LIC-LOCATION:Europe/Berlin
BEGIN:STANDARD
DTSTART:20251026T020000
TZOFFSETFROM:+0200
TZOFFSETTO:+0100
TZNAME:CET
END:STANDARD
END:VTIMEZONE
END:VCALENDAR