BEGIN:VCALENDAR
VERSION:2.0
PRODID:-//wp-events-plugin.com//7.0.5//EN
TZID:Europe/Berlin
X-WR-TIMEZONE:Europe/Berlin
BEGIN:VEVENT
UID:14603@die-dezentrale.net
DTSTART;TZID=Europe/Berlin:20260115T183000
DTEND;TZID=Europe/Berlin:20260115T201500
DTSTAMP:20251209T084635Z
URL:HTTPS://www.die-dezentrale.net/events/ohne-kohle-kein-ausstieg-die-soz
 ial-oekologische-transformation-finanzieren-mit-prof-dr-andreas-fisahn-und
 -dr-katja-rietzler/
SUMMARY:"没有煤就没有出路: die sozial-ökologische Transformation f
 inanzieren" 与教授. 博士. 安德烈亚斯·菲萨恩和博士. Katja Rietzler
DESCRIPTION:\n\n\n15.01.2026 | 18.30 时钟 | "没有煤就没有出路: die s
 ozial-ökologische Transformation finanzieren" 与教授. 博士. Andreas Fisah
 n und Dr. Katja Rietzler\nEine Veranstaltung des Promotionskollegs "只是 -
  公平可持续的转型" der Hans-Böckler-Stiftung\n\n\n
 \n\n\n\nWann? 15. 一月 2026 一 18:30 Uhr\n\nWo? 大学:Lokal\, Wilhelmsstra
 ße 21\, 34117 Kassel\n\nVortrags- und Diskussionsveranstaltung mit Prof. 
 博士. 安德烈亚斯·菲萨恩 (Lehrstuhl für öffentliches Recht\, 环境- und Techn
 ikrecht\, 比勒菲尔德大学法律理论) 和博士. 卡佳·里茨勒 (Inst
 itut für Makroökonomie und Konjunkturforschung der Hans-Böckler-Stiftun
 g)\n\nModeration: 教授. 博士. 菲利克斯·韦尔蒂 (社会学系- und Gesun
 dheitsrecht\, Recht der Rehabilitation und Behinderung\, Universität Kass
 el)\n\nDie Veranstaltung kann auch online\, 可以通过 Zoom 进行关注. Für
  den Link bitten wir um eine E-Mail an: just@uni-kassel.de\n\n&nbsp\;\n\n\
 n\n\n\n
ATTACH;FMTTYPE=image/jpeg:HTTPS://www.die-dezentrale.net/wp-content/upload
 s/2025/12/Ohne-Kohle-kein-Ausstieg.jpg
CATEGORIES:学习,vortrag
END:VEVENT
BEGIN:VTIMEZONE
TZID:Europe/Berlin
X-LIC-LOCATION:Europe/Berlin
BEGIN:STANDARD
DTSTART:20251026T020000
TZOFFSETFROM:+0200
TZOFFSETTO:+0100
TZNAME:CET
END:STANDARD
END:VTIMEZONE
END:VCALENDAR