BEGIN:VCALENDAR
VERSION:2.0
PRODID:-//wp-events-plugin.com//7.0.5//EN
TZID:Europe/Berlin
X-WR-TIMEZONE:Europe/Berlin
BEGIN:VEVENT
UID:7833@die-dezentrale.net
DTSTART;TZID=Europe/Berlin:20200926T140000
DTEND;TZID=Europe/Berlin:20200926T170000
DTSTAMP:20200924T123015Z
URL:https://www.die-dezentrale.net/events/oma-opa-spielt-mir-bitte-ein-mae
 rchen-vor-bueyuekanne-bueyuekbaba-bana-bir-masal-calin-luetfen/
SUMMARY:Oma\, أوبا! من فضلك تلعب لي قصة خرافية! Büyükanne\, Büyük
 baba\, bana bir masal çalın\, lütfen
DESCRIPTION:تمهيدا لأسبوع الثقافات 2020 هناك 26.09. in 
 der Grimmwelt eine deutsch-türkische Märchenlesungperformance. Masallari
 n dili hem almanca hem de türkce\, canli ses ve müzik beraberinde.\n\nZu
 r vollen Stunde je Start eines anderen Märchens\, مع الصوت الحي- und
  Musikvertonung\, 14h\,15h\,16h.\nSinirli koltuk var ve önceden kayit yap
 masi gerekiyor.\n\nVoranmeldung ist nötig.\nEtkinlik ücretsizdir - Eintr
 itt frei.\n\nWeitere Infos über den verlinkten Flyer\, انظر الصفحة 7.
CATEGORIES:قراءة,performance
END:VEVENT
BEGIN:VTIMEZONE
TZID:Europe/Berlin
X-LIC-LOCATION:Europe/Berlin
BEGIN:DAYLIGHT
DTSTART:20200329T030000
TZOFFSETFROM:+0100
TZOFFSETTO:+0200
TZNAME:CEST
END:DAYLIGHT
END:VTIMEZONE
END:VCALENDAR