BEGIN:VCALENDAR
VERSION:2.0
PRODID:-//wp-events-plugin.com//7.0.5//EN
TZID:Europe/Berlin
X-WR-TIMEZONE:Europe/Berlin
BEGIN:VEVENT
UID:7135@die-dezentrale.net
DTSTART;TZID=Europe/Berlin;VALUE=DATE:20200501
DTEND;TZID=Europe/Berlin;VALUE=DATE:20200502
DTSTAMP:20200430T203123Z
URL:https://www.die-dezentrale.net/events/online-demo-1-mai-in-nordhessen-
 solidarisch-ist-man-nicht-alleine/
SUMMARY:Online-Demo: 1. Mai in Nordhessen - Solidarisch ist man nicht allei
 ne!
DESCRIPTION:Der DGB ruft zu einer Online-Aktion für den 1. Mai auf. Den Or
 iginal-Aufruf und die Scoial Media-Wall findet ihr hier.\n\n"Wir werden am
  1. Mai 2020 nicht wie gewohnt demonstrieren und feiern\, leider! Aber kla
 r ist: Der 1. Mai\, der Tag der Arbeit\, er ist unser Tag!\n\nWir zeigen u
 nsere Statements in diesem Jahr nicht auf der Straße\, sondern hier auf u
 nserer Social-Media-Wall. Wir wollen und wir brauchen also eure Fotos\, eu
 re Statements\, eure Aktionen\, eure Eindrücke\, eure Ideen\, eure Filmch
 en\, eure...\nPostet also gerne das\, was ihr loswerden wollt\, was ihr fo
 tografiert\, was ihr euren Kolleg*innen sagen möchtet\, auf Instagram und
  Twitter zusammen mit #1MaiNordhessen oder markiert uns auf Facebook in eu
 rem öffentlichen (!) Beitrag (schreibt @DGB Nordhessen und wählt uns aus
 ). Oder schickt uns eine Mail unter nordhessen@dgb.de (Videos am besten le
 icht über www.wetransfer.com).\n\nUnd mit dem zusätzlichen Hashtag #Soli
 darischNichtAlleine (bei Twitter\, Instagram oder youtube) bzw. der Markie
 rung @DGB.Bundesvorstand (bei Facebook) kommt ihr außerdem noch auf die b
 undesweite Social-Media-Wall auf www.dgb.de/erster-mai-tag-der-arbeit\n\n&
 nbsp\;
CATEGORIES:aktion
END:VEVENT
BEGIN:VTIMEZONE
TZID:Europe/Berlin
X-LIC-LOCATION:Europe/Berlin
BEGIN:DAYLIGHT
DTSTART:20200329T030000
TZOFFSETFROM:+0100
TZOFFSETTO:+0200
TZNAME:CEST
END:DAYLIGHT
END:VTIMEZONE
END:VCALENDAR