BEGIN:VCALENDAR
VERSION:2.0
PRODID:-//wp-events-plugin.com//7.0.5//EN
TZID:Europe/Berlin
X-WR-TIMEZONE:Europe/Berlin
BEGIN:VEVENT
UID:7992@die-dezentrale.net
DTSTART;TZID=Europe/Berlin:20201118T180000
DTEND;TZID=Europe/Berlin:20201118T200000
DTSTAMP:20201117T123015Z
URL:https://www.die-dezentrale.net/events/online-diskussion-auswertung-ans
 tossen-wie-weiter/
SUMMARY:Online feminizm tartışması: Auswertung\, Anstoßen\, 
 nasıl oluyor?
DESCRIPTION:Organisiert von feminism unlimited kassel\n\nWir wollen am Mitt
 woch\, 18.11. bir 18 Demoyu şuradan izleyin: 14.11.2020 "Abtreibung lega
 lisieren – Antifeminismus sabotieren! Kassel'de ve her yerde!" Revue pas
 sieren lassen\, auf das Vollbrachte anstoßen und überlegen ob und wie es
  von hier aus weitergehen kann (ülke çapında ağ oluşturma? prochoice-Kongress
 ? içerik etkinlikleri?).\n\nKommt gerne dazu: https://uni-kassel.z
 oom.us/j/94322821754
CATEGORIES:treffen
END:VEVENT
BEGIN:VTIMEZONE
TZID:Europe/Berlin
X-LIC-LOCATION:Europe/Berlin
BEGIN:STANDARD
DTSTART:20201025T020000
TZOFFSETFROM:+0200
TZOFFSETTO:+0100
TZNAME:CET
END:STANDARD
END:VTIMEZONE
END:VCALENDAR