BEGIN:VCALENDAR
VERSION:2.0
PRODID:-//wp-events-plugin.com//7.0.5//EN
TZID:Europe/Berlin
X-WR-TIMEZONE:Europe/Berlin
BEGIN:VEVENT
UID:7064@die-dezentrale.net
DTSTART;TZID=Europe/Berlin:20200422T160000
DTEND;TZID=Europe/Berlin:20200422T180000
DTSTAMP:20200404T212712Z
URL:https://www.die-dezentrale.net/events/online-workshop-antisemi-was-tei
 l-2/
SUMMARY:Online-Workshop: Antisemi-było? część 2
DESCRIPTION:Wie zeigen sich antisemitische Einstellungen bei Jugendlichen h
 eute – und warum? Jakie strategie pedagogiczne tam?\nDi
 e Fortbildung unterstützt Sie und Ihr Kollegium bei der Entwicklung von H
 andlungsstrategien gegen Antisemitismus im pädagogischen Raum.\n\nDas Sem
 inar besteht aus zwei zusammengehörenden Modulen.\n\nDonnerstag\, 9. Apri
 l\, 16-18 Zegar (moduł 1)\nMittwoch\, 22. April\, 16-18 Zegar (moduł 2) \n\nUn
 sere Webinare laufen über die Plattform Zoom und sind kostenfrei.\n\nBitt
 e melden Sie sich mit Angabe des Webinar-Titels unter erwachsenenbildung@b
 s-anne-frank.de an. Następnie otrzymasz dostępu.
CATEGORIES:workshop
END:VEVENT
BEGIN:VTIMEZONE
TZID:Europe/Berlin
X-LIC-LOCATION:Europe/Berlin
BEGIN:DAYLIGHT
DTSTART:20200329T030000
TZOFFSETFROM:+0100
TZOFFSETTO:+0200
TZNAME:CEST
END:DAYLIGHT
END:VTIMEZONE
END:VCALENDAR