BEGIN:VCALENDAR
VERSION:2.0
PRODID:-//wp-events-plugin.com//7.0.5//EN
TZID:Europe/Berlin
X-WR-TIMEZONE:Europe/Berlin
BEGIN:VEVENT
UID:8074@die-dezentrale.net
DTSTART;TZID=Europe/Berlin:20210206T100000
DTEND;TZID=Europe/Berlin:20210206T170000
DTSTAMP:20210112T135751Z
URL:https://www.die-dezentrale.net/events/online-workshop-klimakommunikati
 on/
SUMMARY:Online-Taller: Klimakommunikation
DESCRIPTION:Organisiert von SoLocal Energy e.V.\n\nKennt ihr das? Da will m
 an andere überzeugen\, das Klima zu retten und erntet nur Kopfschütteln 
 oder Unverständnis. Oder teils vielleicht sogar berechtigte Kritik\, die 
 uns sprachlos macht.\n\nGute Klimakommunikation ist faktenbasiert\, handlu
 ngsorientiert und fühlt sich überwiegend gut an. Sie ist authentisch und
  empathisch\, tiene un objetivo y es específico del grupo objetivo. Sie benennt Co-B
 enefits klimafreundlichen Verhaltens. Und sie dockt an unserer Lebensreali
 tät an.\n\nIn dem interaktiven Workshop werden Leitlinien\, Beispiele und
  Übungen zu guter Klimakommunikation angeboten. Wir werden uns mit folgen
 den Themen beschäftigen:\n1. Ziele und Zielgruppe der eigenen Klimakommun
 ikation\n2. Die Rolle von Emotionen und was uns hilft\, ins Handeln zu kom
 men\n3. Fakten\, ihre Relevanz &amp\; Vermittlung\n4. Widerstände gegen K
 limaschutz: Hintergründe\, Strategien und Antworten im Umgang damit\n\nBi
 tte meldet Euch bis zum 5.2. per E-Mail bei info@solocal-energy.de an. Sch
 reibt gerne etwas über Euern Hintergrund und Eure Erwartungen an das Work
 shop. Wir schicken euch dann vor dem Workshop weitere Informationen und di
 e Zugangsdaten zu.\n\nMit dem Workshop gehen wir in die dritte Runde\, nac
 h einer abgespeckten Online-Version im Frühjahr und einem Ganztages-Works
 hop als Präsenzformat im Sommer.\nKerstin Lopau von SoLocal Energy hat de
 n Bremer Klima-Coach Dr. Christian Gutsche como orador. 
 Ha estado involucrado desde 15 Jahren für Klimaschutz\, Energiewende und Solid
 arische Ökonomie. Neben Workshops und Beratung zu Klimakommunikation baut
  er gerade den sozial-ökologischen\, gemeinschaftsbasierten Coworking Spa
 ce „CoLab“ und eine Solar-Selbstbau-Kooperative in Bremen auf.\n\nDie 
 Veranstaltung findet in Kooperation mit der Heinrich Böll-Stiftung Hessen
  und dem BUND Hessen statt. Dank unserer Kooperationspartner*innen fallen 
 keine Teilnahmegebühren für den Workshop an.\n\nGerne weitersagen!
ATTACH;FMTTYPE=image/jpeg:https://www.die-dezentrale.net/wp-content/upload
 s/2021/01/2021-02-06_Klimakommunikationsworkshop_Banner_Quali.png
CATEGORIES:aprender,conferencia,workshop
END:VEVENT
BEGIN:VTIMEZONE
TZID:Europe/Berlin
X-LIC-LOCATION:Europe/Berlin
BEGIN:STANDARD
DTSTART:20201025T020000
TZOFFSETFROM:+0200
TZOFFSETTO:+0100
TZNAME:CET
END:STANDARD
END:VTIMEZONE
END:VCALENDAR