BEGIN:VCALENDAR
VERSION:2.0
PRODID:-//wp-events-plugin.com//7.0.5//EN
TZID:Europe/Berlin
X-WR-TIMEZONE:Europe/Berlin
BEGIN:VEVENT
UID:7066@die-dezentrale.net
DTSTART;TZID=Europe/Berlin:20200506T170000
DTEND;TZID=Europe/Berlin:20200506T183000
DTSTAMP:20200404T212914Z
URL:https://www.die-dezentrale.net/events/online-workshop-what-about-xavie
 r-naidoo-2/
SUMMARY:Online Atölye: Xavier Naidoo hakkında ne?
DESCRIPTION:Xavier Naidoo hakkında ne?\n\nRassistisch\, antisemitisch\, Reic
 hsbürger nah\,..Alles nur Kampagne? Die Ereignisse um Xavier Naidoo über
 schlagen sich gerade. ama onlar aleyhinde. Woher kommen die Vorwür
 fe gegen Xavier Naidoo? Onlar yeni misin? In diesem Webinar werden wir uns den
  Fragen und der Causa Naidoo genauer widmen.\n\nMittwoch\, 15.April\, 17-1
 8.30 Uhr &\nMittwoch\, 6. Mai\, 17-18.30 Uhr \n\nUnsere Webinare laufen ü
 ber die Plattform Zoom und sind kostenfrei.\n\nBitte melden Sie sich mit A
 ngabe des Webinar-Titels unter erwachsenenbildung@bs-anne-frank.de an. Dar
 aufhin erhalten Sie ihre Zugangsdaten. 
CATEGORIES:workshop
END:VEVENT
BEGIN:VTIMEZONE
TZID:Europe/Berlin
X-LIC-LOCATION:Europe/Berlin
BEGIN:DAYLIGHT
DTSTART:20200329T030000
TZOFFSETFROM:+0100
TZOFFSETTO:+0200
TZNAME:CEST
END:DAYLIGHT
END:VTIMEZONE
END:VCALENDAR