BEGIN:VCALENDAR
VERSION:2.0
PRODID:-//wp-events-plugin.com//7.0.5//EN
TZID:Europe/Berlin
X-WR-TIMEZONE:Europe/Berlin
BEGIN:VEVENT
UID:15239@die-dezentrale.net
DTSTART;TZID=Europe/Berlin:20260516T200000
DTEND;TZID=Europe/Berlin:20260516T200000
DTSTAMP:20260420T133427Z
URL:https://www.die-dezentrale.net/events/party-freakz-vol-1/
SUMMARY:حفل: FreakZ Vol.1
DESCRIPTION:Get ready for a night of strict sonic experimentation: Breakbea
 ts\, Ghetto Tech\, DnB\, Guaracha\, Tribal\, Elektro\, Donk and of course 
 a heavy dose of BASS paired with inmersive installations and trippy visual
 s.\nCostumes and looking like a FREAK is highly encouraged!\n\nThis is mor
 e than a party. We have fun together\, we take care of each other.\nRespec
 t the dancefloor\, respect the people. No harassment\, no violence\, no bu
 llshit allowed or we will gladly kick you out :).\n\nCome early and don’
 t miss the Live Act!!!⚠️\n\nSee u there\nXOXO💋💋💋\n\nLIVE ACT 
 @skinnybeak999\n\nDJ SETS\n@melsvngg\n@djfroggy69\n@correcomolaucha\n_____
 _______________________________\n\nDie Veranstaltung findet im Subterrain 
 statt.\n\nBeginn um 20 Uhr\nEintritt (فقط أك): 4-8€ (nach Selbsteinschä
 tzung)
ATTACH;FMTTYPE=image/jpeg:https://www.die-dezentrale.net/wp-content/upload
 s/2026/04/Druck-Format-Freakz-scaled.png
CATEGORIES:party
LOCATION:Sandershaus | ساندر شتراسه 79\, Kassel\, 34123\, ألم
 انيا
GEO:51.31061;9.52756
X-APPLE-STRUCTURED-LOCATION;VALUE=URI;X-ADDRESS=Sandershäuser Straße 79\,
  Kassel\, 34123\, ألمانيا;X-APPLE-RADIUS=100;X-TITLE=Sandershaus:ge
 o:51.31061,9.52756
END:VEVENT
BEGIN:VTIMEZONE
TZID:Europe/Berlin
X-LIC-LOCATION:Europe/Berlin
BEGIN:DAYLIGHT
DTSTART:20260329T030000
TZOFFSETFROM:+0100
TZOFFSETTO:+0200
TZNAME:CEST
END:DAYLIGHT
END:VTIMEZONE
END:VCALENDAR