BEGIN:VCALENDAR
VERSION:2.0
PRODID:-//wp-events-plugin.com//7.0.5//EN
TZID:Europe/Berlin
X-WR-TIMEZONE:Europe/Berlin
BEGIN:VEVENT
UID:10184@die-dezentrale.net
DTSTART;TZID=Europe/Berlin:20231124T170000
DTEND;TZID=Europe/Berlin:20231124T180000
DTSTAMP:20231124T185655Z
URL:HTTPS://www.die-dezentrale.net/events/paul-geigerzaehler-tonflation/
SUMMARY:Paul Geigerzähler & Tonflation
DESCRIPTION:PAUL GEIGERZÄHLER\nhat mit seiner Geige eine komplette Punkban
 d auf dem Arm.\nhttps://geigerzaehler.info/\n&amp\;\nTONFLATION\nspielt Kl
 avier und repariert damit am ramponierten Kapitalismus rum.\nhttps://sound
 cloud.com/tonflation\n\n17:00 - 18:00 卡塞尔总站 - 车站大厅 - am Klav
 ier
ATTACH;FMTTYPE=image/jpeg:HTTPS://www.die-dezentrale.net/wp-content/upload
 s/2023/11/Hbf_Plakat_1Nov_s.jpg
CATEGORIES:konzert
END:VEVENT
BEGIN:VTIMEZONE
TZID:Europe/Berlin
X-LIC-LOCATION:Europe/Berlin
BEGIN:STANDARD
DTSTART:20231029T020000
TZOFFSETFROM:+0200
TZOFFSETTO:+0100
TZNAME:CET
END:STANDARD
END:VTIMEZONE
END:VCALENDAR