BEGIN:VCALENDAR
VERSION:2.0
PRODID:-//wp-events-plugin.com//7.0.5//EN
TZID:Europe/Berlin
X-WR-TIMEZONE:Europe/Berlin
BEGIN:VEVENT
UID:13408@die-dezentrale.net
DTSTART;TZID=Europe/Berlin:20250501T200000
DTEND;TZID=Europe/Berlin:20250501T200000
DTSTAMP:20250327T123155Z
URL:HTTPS://www.die-dezentrale.net/events/paul-mckenna-band-sco-murder-of-
 magpies/
SUMMARY:Пол МакКенна (ШОС) + Murder of Magpies
DESCRIPTION:начало: 20 Uhr\, входное отверстие 19 Uhr\nEintritt: 18 €\nOrt: Kulturf
 abrik Salzmann - Spielstätte am Kupferhammer\, Leipziger Straße 407\nVer
 anstalterin: Kulturfabrik Salzmann\n\nPaul McKenna versteht es wie kein Zw
 eiter\, die feine Balance zwischen modernem Songwriting und traditioneller
  Musik zu halten und spinnt damit den Faden des Folk-Revivals weiter. Sein
 e Geschichten sind thematisch breit gefächert und immer schlägt sein Her
 z für die Schwachen und Unterdrückten. Mit seiner unverkennbaren Stimme\
 , virtuosem Gitarrenspiel und großartigen Liedern wird er als Nachfolger 
 von Dick Gaughan und Andy Irvine gehandelt. McKenna’s Band ergänzt sein
 e Songs mit treibenden Tunes auf Fiddle\, Flutes und Whistles. Percussions
 \, Banjo und Bouzouki sorgen für den nötigen Druck und machen die Paul M
 cKenna Band zu einer exzellenten Festival-Band. Kopf- und Bauchmusik vom F
 einsten - clevere und sozialkritische Texte treffen auf fetzige Tunes und 
 tanzbare Arrangements. Seit ihrem ersten Auftritt 2006 beim Moniaive Folk 
 Festival in den schottischen Lowlands ist viel passiert. Zusammen mit sein
 er Band gillt Paul McKenna als einer der gefragtesten Acts der schottische
 n Szene und feiert weltweit große Erfolge. Bühnen werden größer\, Tour
 neen werden länger\, und immer mehr Fans erleben mitreißende und bewegen
 de Konzerte von großer musikalischer Bandbreite. 2022 eröffnete Paul McK
 enna das renommierte Celtic Connections Festival in Glasgow.\n\nMurder of 
 Magpies sind mittlerweile ein fester Bestandteil der Kassler Musikszene. N
 ach ihren Anfängen zu dritt hat sich nicht nur der Sound\, sondern auch d
 ie Besetzung der Band erweitert. Was als Akustiktrio begann\, entwickelte 
 sich immer weiter zu einer fünfköpfigen Band\, die für einen manchmal m
 elancholischen\, aber stets innigen Indiepop-Sound steht. So vielseitig wi
 e die verschiedenen Orte\, an denen die Band bereits Auftritte spielte\, b
 leibt auch ihr Songwriting\, sodass sich ein Konzertbesuch immer lohnt.\n\
 nKartenreservierung möglich unter www.kulturfabrik-kassel.de oder per E-M
 ail: info@kulturfabrik-kassel.de\n\n\n\nlinks: Paul McKenna Band © Martin
  Forry\; rechts: Murder of Magpies © Murder of Magpies\n\n&nbsp\;\n\n&nbs
 p\;\n\n&nbsp\;
CATEGORIES:konzert
LOCATION:Kulturfabrik Зальцман (на медном молотке) | Лейпцигерштрассе 407\, 
 Kassel\, Hessen\, 34123\, Германия
GEO:51.294032;9.557798
X-APPLE-STRUCTURED-LOCATION;VALUE=URI;X-ADDRESS=Leipziger Straße 407\, Kas
 sel\, Hessen\, 34123\, Германия;X-APPLE-RADIUS=100;X-TITLE=Kulturf
 abrik Salzmann (на медном молотке):geo:51.294032,9.557798
END:VEVENT
BEGIN:VTIMEZONE
TZID:Europe/Berlin
X-LIC-LOCATION:Europe/Berlin
BEGIN:DAYLIGHT
DTSTART:20250330T030000
TZOFFSETFROM:+0100
TZOFFSETTO:+0200
TZNAME:CEST
END:DAYLIGHT
END:VTIMEZONE
END:VCALENDAR