BEGIN:VCALENDAR
VERSION:2.0
PRODID:-//wp-events-plugin.com//7.0.5//EN
TZID:Europe/Berlin
X-WR-TIMEZONE:Europe/Berlin
BEGIN:VEVENT
UID:9061@die-dezentrale.net
DTSTART;TZID=Europe/Berlin:20220923T190000
DTEND;TZID=Europe/Berlin:20220923T200000
DTSTAMP:20220922T200422Z
URL:https://www.die-dezentrale.net/events/piraten-kanal-kassel-live/
SUMMARY:Piraten Kanal Kassel Live
DESCRIPTION:La chaîne pirate Kassel est mise en ligne. Zur Show auf dem Deck des H
 avarie Space sind Sie\, verehrtes Publikum\, ebenso eingeladen wie zur Üb
 ertragung zuhause vor dem Computerbildschirm. Ein buntes Programm interess
 anter Gäste und Beiträge erwartet Sie auf dem Boot.\n\nAb 19 Jouer à l&#039;horloge
 \, lire et commenter le sujet de l&#039;Europe, connue et méconnue. Das Pr
 ogramm eines möglichen transeuropäischen Senders wird imaginiert. Lassen
  Sie sich überraschen und ziehen sie sich warm an (auch im wortwörtliche
 n Sinn)!\n\nDie Live-Show ist Teil der Ausstellung „A Many-Headed Hydra
 “ der Graduiertenschule für Bewegtbild der Kunsthochschule Kassel.\n\nH
 avarie SPACE\nam Fulda-Ufer\n(Die Schlagd\, 34123 Kassel)\n\nStream: https
 ://hydrarchy.net/\n\n(Affiche de Saguaro Duda)
ATTACH;FMTTYPE=image/jpeg:https://www.die-dezentrale.net/wp-content/upload
 s/2022/09/PKK_Poster1_v3_small.png
CATEGORIES:exposition,concert,performance
END:VEVENT
BEGIN:VTIMEZONE
TZID:Europe/Berlin
X-LIC-LOCATION:Europe/Berlin
BEGIN:DAYLIGHT
DTSTART:20220327T030000
TZOFFSETFROM:+0100
TZOFFSETTO:+0200
TZNAME:CEST
END:DAYLIGHT
END:VTIMEZONE
END:VCALENDAR