BEGIN:VCALENDAR
VERSION:2.0
PRODID:-//wp-events-plugin.com//7.0.5//EN
TZID:Europe/Berlin
X-WR-TIMEZONE:Europe/Berlin
BEGIN:VEVENT
UID:14463@die-dezentrale.net
DTSTART;TZID=Europe/Berlin:20251204T203000
DTEND;TZID=Europe/Berlin:20251204T203000
DTSTAMP:20251118T124633Z
URL:https://www.die-dezentrale.net/events/plattenbau-tba-postpunk/
SUMMARY:Construction préfabriquée / Pluie rouge vin (Post-punk)
DESCRIPTION:Plattenbau ist ein international besetztes Berliner Quartett\, 
 das Elemente aus Post-Punk\, Noise-Rock und Wave zu einem dunklen\, intens
 iven Gebräu verschmelzen lässt. Plattenbaus Sound kombiniert mechanisch 
 klingendes Schlagzeug\, goth angehauchte Basslinien\, mystische Gitarren u
 nd paranoid klagende Synths zu einer Mischung\, die an den Soundtrack eine
 s 90s Horrorfilms erinnert. Zusammengehalten wird das Ganze von intimen\, 
 voix profonde et sombre. Das Ergebnis ist eine Soundwelt die zugleich 
 chaotisch und sorgfältig komponiert wirkt – ganz im Sinne ihres Mottos:
  „Tight\, loose and evil“.\nDie Band wurde 2011 gegründet\, inspirier
 t von der brutalistischen Architektur der postsowjetischen Landschaft Ost-
 Berlins. Als fester Bestandteil der Berliner Underground-Szene entwickelte
  sich die Band im Laufe der Jahre sowohl persönlich als auch in ihrem Sou
 nd weiter\, jusqu&#039;à ce qu&#039;elle trouve son casting actuel: Lewis Lloyd (Voix/Synthé
 )\, Sally Brun (Basse/Gorge)\, Brandon Walsh (batterie) et Jesper Munk
  (Guitare/Synthé).\n\nhttps://youtu.be/WxHumC-Phkk?si=ogRiQykqyLWG8DmH\n___
 ___________________________________________________________________\nEs re
 gnet weinrot\, wenn sich unsere Gefühle mit dem Raum verbinden und mit Li
 ebe auf uns herab prasseln. Weinroter Regen schreibt Lieder über Liebe au
 s einer ehrlichen und reflektierten Perspektive\, die an Neue Neue Deutsch
 e Welle Acts wie Edwin Rosen\, Diggidaniel und Steintor Herrenchor sowie E
 inflüssen aus Coldwave und Postpunk erinnern.\nDiese Werke entstehen in l
 angen Nächten in seinem Musikstudio in Hannover. Getrieben von seiner kü
 nstlerischen Vision hat er sein Debütalbum produziert\, la fin 2024 exk
 lusiv auf Vinyl und CD erschienen ist. Mehrere Singles wurden bereits auf 
 Streaming-Diensten veröffentlicht\, die unter anderem intensiv in der Neu
 e Neue Deutsche Welle Playlist des Szene-Magazins Diffus gefeatured wurden
 .\nErste Live-Auftritte folgten bei Klubkonzerten in Hannover im letzten J
 ahr mit der Album-Release Show als Highlight in der komplett gefüllten No
 rdstadtbraut.\nDas Jahr 2025 begann mit lokalen Akustik-Konzerten\, die He
 nrik basierend auf dem Songmaterial vom Album über den Winter erarbeitet 
 hat. Gleichzeitig hat er zusammen mit Alphons das Projekt Tonschleife bei 
 Am Bremer Damm etabliert\, bei dem live und interaktiv an Material für da
 s nächste Album gearbeitet wird.\n\nhttps://youtu.be/CqtycXjTuFI?si=F6IBq
 crwcMsyYgnR\n_____________________________________________________________
 _________\nEinlass ab 20 Horloge / Commencer à 20:30 Uhr\nDas Konzert findet im 
 Subterrain statt.\nEintritt (billetterie uniquement): 10 - 15 € (nach Selbsteins
 chätzung)\n______________________________________________________________
 ________\nFoto von Stephen Golden
ATTACH;FMTTYPE=image/jpeg:https://www.die-dezentrale.net/wp-content/upload
 s/2025/11/IMG_0838_Stephen-Golden-fb.jpeg
CATEGORIES:konzert
LOCATION:Sandershaus | Sander Straße 79\, Kassel\, 34123\, Allemag
 ne
GEO:51.31061;9.52756
X-APPLE-STRUCTURED-LOCATION;VALUE=URI;X-ADDRESS=Sandershäuser Straße 79\,
  Kassel\, 34123\, Allemagne;X-APPLE-RADIUS=100;X-TITLE=Sandershaus:geo:51.
 31061,9.52756
END:VEVENT
BEGIN:VTIMEZONE
TZID:Europe/Berlin
X-LIC-LOCATION:Europe/Berlin
BEGIN:STANDARD
DTSTART:20251026T020000
TZOFFSETFROM:+0200
TZOFFSETTO:+0100
TZNAME:CET
END:STANDARD
END:VTIMEZONE
END:VCALENDAR