BEGIN:VCALENDAR
VERSION:2.0
PRODID:-//wp-events-plugin.com//7.0.5//EN
TZID:Europe/Berlin
X-WR-TIMEZONE:Europe/Berlin
BEGIN:VEVENT
UID:6448@die-dezentrale.net
DTSTART;TZID=Europe/Berlin:20200131T170000
DTEND;TZID=Europe/Berlin:20200131T193000
DTSTAMP:20200112T113909Z
URL:HTTPS://www.die-dezentrale.net/events/plattform-treffen-zum-thema-selb
 storganisation/
SUMMARY:Plattform-Treffen zum Thema Selbstorganisation
DESCRIPTION:English version below\n\nSelbstorganisation – wie geht das ei
 gentlich?\n\nFreitag\, 31. январь 2020\, 17 до тех пор пока 19.30 Uhr\nVilla Locomuna 
 (2. вход)\, Kölnische ул. 183 (Остановки Aschrottstraße (Tramlini
 e 8)\, Malsburgstraße (автобус)\, Бебельплац (Трамвайная линия 4))\n\nViele Projekte
  und Initiativen\, auch im Rahmen von Solidarity City\, bezeichnen sich se
 lbst als „selbstorganisiert“. Doch was genau bedeutet es\, sich selbst
  zu organisieren?\n\nZuallererst geht es darum\, gleichberechtigte statt h
 ierarchische Strukturen zu schaffen. Das heißt\, dass Entscheidungen von 
 all jenen getroffen werden\, которые пострадали от них. In einem kurzen
  Input stellen wir euch weitere Grundprinzipien und Formen von Selbstorgan
 isation vor – und auch einige „Werkzeuge“\, die uns dabei helfen kö
 nnen\, строить самоорганизующиеся структуры и живой. 
 на основе (более) Beispielen übertragen wir das Ganze in die Praxis und 
 diskutieren Erfolge und Schwierigkeiten von Selbstorganisation.\n\nDamit w
 ollen wir anschließen an die Diskussion vom letzten Treffen\, bei dem wir
  uns der Stadtteilarbeit und dem transformativen Organizing gewidmet haben
 . Um andere Menschen für ein Thema zu mobilisieren\, müssen wir uns erst
  einmal selbst organisieren. Поэтому мы включаем 31. Januar den Blick auf 
 unsere bereits existierenden Strukturen. Nach und nach wollen wir so Kasse
 l zu einer solidarischen und ökologischen Stadt machen.\n\nSave the date:
  Мы также хотим, чтобы вы (как было объявлено) einladen zu einem ausführli
 cheren Workshop rund um „Transformative Organizing“\, самая 4. и 5.
  апрель 2020 будет проходить. Der Ort wird noch bekannt gegeben\, aber das
  Datum könnt ihr euch schon einmal notieren.\n\n*************************
 ********************************************************\n\nSelf-organisat
 ion - Как это на самом деле работает?\n\nFriday\, 31го января 2020\, 5 в 7.
 30 pm\nVilla Locomuna\, Kölnische ул. 183 (tram/bus stops Aschrottstraß
 e (Трамвайная линия 8)\, Malsburgstraße (автобус)\, Бебельплац (Трамвайная линия 4))\n\nMan
 y projects and initiatives\, also within the scope of Solidarity City\, de
 scribe themselves as "самоорганизованная". But what exactly does it mean to or
 ganise oneself?\n\nFirst and foremost\, it is about creating equal rather 
 than hierarchical structures. This means that decisions are made by all th
 ose who are affected by them. In a short input we will introduce you to fu
 rther basic principles and forms of self-organization - и немного "инструменты" t
 hat can help us to build and keep self-organized structures alive. With th
 e help of (ваш) examples\, we will put the whole thing into practice and 
 discuss successes and difficulties of self-organisation.\n\nWith this we w
 ant to follow up the discussion of the last meeting\, which we dedicated t
 o the topic of district work and Transformative Organizing. But in order t
 o get other people mobilized for a cause\, we first have to organise ourse
 lves. Therefore\, on 31st January\, we will turn our attention to our exis
 ing structures. Gradually we can thus make Kassel a city of solidarity and
  ecology.
CATEGORIES:встреча,workshop
END:VEVENT
BEGIN:VTIMEZONE
TZID:Europe/Berlin
X-LIC-LOCATION:Europe/Berlin
BEGIN:STANDARD
DTSTART:20191027T020000
TZOFFSETFROM:+0200
TZOFFSETTO:+0100
TZNAME:CET
END:STANDARD
END:VTIMEZONE
END:VCALENDAR