BEGIN:VCALENDAR
VERSION:2.0
PRODID:-//wp-events-plugin.com//7.0.5//EN
TZID:Europe/Berlin
X-WR-TIMEZONE:Europe/Berlin
BEGIN:VEVENT
UID:10356@die-dezentrale.net
DTSTART;TZID=Europe/Berlin:20240126T170000
DTEND;TZID=Europe/Berlin:20240126T170000
DTSTAMP:20240125T084838Z
URL:HTTPS://www.die-dezentrale.net/events/podiumsdiskussion-a-room-of-her-
 own-gender-wealth-gap-und-wohn-eigentum/
SUMMARY:дискуссия: Ее собственная комната* - Гендерный разрыв в благосостоянии и (Жилой
 -)Eigentum
DESCRIPTION:\n\n&nbsp\;\n\n\n\n\n\n\n\n\n\n\n\nHERZLICHE EINLADUNG zu unser
 em Interdisziplinären Mini-Symposium Teil 1: Podiumsdiskussion A Room of 
 Her* Own - Гендерный разрыв в благосостоянии и (Жилой)Eigentum\n\n \nmit Monika Grubbau
 er\, Gabu Heindl\, Tabea Latocha\, Nina Manz\, Dagmar Pelger\, Niloufar Ta
 jeri\, Sarah Uhlmann u.v.m.\n\nWie hängen Gender und Vermögen zusammen? 
 Какую роль собственность и гендер играют в городских политических конфликтах??
  Как можно концептуализировать богатство и экономику с социальной точки зрения?? W
 ie lässt sich (Жилой)Eigentum feministisch\, intersek­tional und kollekt
 iv weiterdenken?\n\n26.1.2024\, 17:00 Projektpräsentation &amp\; Podiumsd
 iskussion\nOrt:\nASL 1\, пространство 106 НАПРИМЕР (Новое здание ASL I Университетская площадь 9\, 
 EG И Раум 106)\nUniversität Kassel\n\n\n
CATEGORIES:vortrag
LOCATION:Университет Касселя | Universität Kassel Campus Holländischer Pl
 atz\, Kassel\, Германия
GEO:51.321181;9.503253
X-APPLE-STRUCTURED-LOCATION;VALUE=URI;X-ADDRESS=Universität Kassel Campus 
 Holländischer Platz\, Kassel\, Германия;X-APPLE-RADIUS=100;X-TITL
 E=Universität Kassel:geo:51.321181,9.503253
END:VEVENT
BEGIN:VTIMEZONE
TZID:Europe/Berlin
X-LIC-LOCATION:Europe/Berlin
BEGIN:STANDARD
DTSTART:20231029T020000
TZOFFSETFROM:+0200
TZOFFSETTO:+0100
TZNAME:CET
END:STANDARD
END:VTIMEZONE
END:VCALENDAR