BEGIN:VCALENDAR
VERSION:2.0
PRODID:-//wp-events-plugin.com//7.0.5//EN
TZID:Europe/Berlin
X-WR-TIMEZONE:Europe/Berlin
BEGIN:VEVENT
UID:11964@die-dezentrale.net
DTSTART;TZID=Europe/Berlin;VALUE=DATE:20240925
DTEND;TZID=Europe/Berlin;VALUE=DATE:20241013
DTSTAMP:20241003T131333Z
URL:https://www.die-dezentrale.net/events/protesttage-letzte-generation-in
 -kassel/
SUMMARY:Protesttage Letzte Generation in Kassel
DESCRIPTION:\n\n\nDie Klimakrise ist jetzt. Hier. فوق كل. Weltweit bezahl
 en Menschen in dieser Krise mit ihrer Gesundheit\, ihrer Chance auf eine g
 ute Zukunft\, مع حياتهم. ولن نقف مكتوفي الأيدي. Deswe
 gen kommen wir am 25.09. معا في كاسل. Wir protestieren gemeinsam ge
 gen das Befeuern der Klimakatastrophe durch Steuergelder.\n\n\n\n\n\n\n\n\
 n\nABER WARUM KASSEL?\n\n\n\n\n\n\nAuch das Jahr 2024 ist geprägt von Ext
 remwetterereignissen\, Fluten\, Bränden\, …\n\nDoch ernsthafte Maßnahm
 en gegen die Klimakatastrophe lassen auf sich warten. Stattdessen werden S
 teuergelder in die Zerstörung investiert. Der bankrotte Flughafen Kassel-
 Calden wird mit Millionen an Steuergeldern künstlich am Laufen gehalten. 
 Statt in Kitas\, Schulen und Altenheime\, wird hier nicht nur das Falsche\
 , لكنه يمول الكارثة.  Anstatt in Lösungen zu investiere
 n\, تدمير المستقبل مدعوم في كاسل. Jedes einzelne
  Flugticket mit mehr als 130 اليورو!\n\nJeden Tag aufs Neue wird an solchen 
 ungerechten Orten die Klimakrise noch verstärkt mit Emissionen\, deren Au
 swirkungen wir erst in Jahrzehnten spüren werden.\nGegen diese Ungerechti
 gkeit haben wir über das gesamte Jahr protestiert und sie sichtbar gemach
 t. An Orten\, مثل كارلسروه (في ميناء النفط)\, ميونيخ (في المطار)
 \, على روغن (أنا محطة الغاز الطبيعي المسال) usw.\n\nDeswegen werden wir auch ab dem 2
 5.09. احتجاج في مدينة كاسل. Wir werden am Beispiel Kassel-Calden zeigen\
 , أن الأمور لا يمكن أن تستمر على هذا النحو. Wir fordern vom Kasseler Oberbürger
 meister: لا توجد أموال ضرائب لمطار كاسل كالدن الإقليمي!\nKei
 ne Steuergelder für Zerstörung!\n\nInfos &amp\; الموعد الأخير (ملخص)\n25
 .09.2024 - 15 Uhr AUFTAKTPROTEST\n28.09.2024 - 12 Uhr Altmarkt UNGEHORSAME
  VERSAMMLUNG\n29.09.2024 GEMEINSCHAFTSTAG &amp\; EINSTIEGSTRAINING\n02.10.
 2024 - 12 Uhr Lutherplatz UNGEHORSAME VERSAMMLUNG\n04.10.2024 - 9 Uhr Goet
 heanlage GESPRÄCH MIT KASSELS OB SVEN SCHÖLLER\n04.102024 - 17 Uhr Ratha
 us Kassel - BÜNDNISDEMONSTRATION\n05.10.2024 - 12 Uhr Fuldabrücke UNGEHO
 RSAMES STRASSENFEST "STOPPT FOSSILE SUBVENTIONEN\n06.10.2024 GEMEINSCHAFTS
 TAG &amp\; EINSTIEGSTRAINING\n12.10.2024 - 12 ساعة (الموقع يتبع) UNGEHORSAME 
 VERSAMMLUNG\n13.10.2024 GEMEINSCHAFTSTAG &amp\; EINSTIEGSTRAINING\n\nAlle 
 Infos und weitere\, aktuelle Termine auf:\nWebseite der Letzten Genration\
 nInsta der Letzten Generation\nTelegram-Infokanal zu den kasseler Protestt
 agen\nInsta der Kasseler Ortsgruppe.\n\nDas Protestcamp befindet sich in d
 er Kasseler Goetheanlage.\n\nOrganisiert von Die Letzte Generation\n\n\n\n
 \n\n\n
CATEGORIES:عمل,تعلم,اجتماع,محاضرة,workshop
END:VEVENT
BEGIN:VTIMEZONE
TZID:Europe/Berlin
X-LIC-LOCATION:Europe/Berlin
BEGIN:DAYLIGHT
DTSTART:20240331T030000
TZOFFSETFROM:+0100
TZOFFSETTO:+0200
TZNAME:CEST
END:DAYLIGHT
END:VTIMEZONE
END:VCALENDAR