BEGIN:VCALENDAR
VERSION:2.0
PRODID:-//wp-events-plugin.com//7.0.5//EN
TZID:Europe/Berlin
X-WR-TIMEZONE:Europe/Berlin
BEGIN:VEVENT
UID:9368@die-dezentrale.net
DTSTART;TZID=Europe/Berlin:20230419T183000
DTEND;TZID=Europe/Berlin:20230419T203000
DTSTAMP:20230310T074453Z
URL:https://www.die-dezentrale.net/events/queerfilm-kassel-mein-erster-som
 mer/
SUMMARY:Queerfilm Kassel: Mein erster Sommer
DESCRIPTION:Queerfilm am Mittwoch\, 19. April um 18:30 Uhr\nim Kleinen Bali
  (Rainer-Dierichs-Platz 1\, 34117 Kassel)\n\nMein erster Sommer\n\nAustral
 ien 2020\nEin Film von Katie Found\nMit: Markella Kavenagh\, Maiah Steward
 son\, Edwina Wren\, Harvey Zielinski\, Steve Mouzakis\nSprache: Englische 
 Originalfassung mit deutschen Untertiteln\nFSK 12\, 80 Minuten\n\n„Die A
 ußenwelt ist böse!“ Das hat die 16-jährige Claudia unzählige Male vo
 n ihrer Mutter gehört. Nun ist die Mutter tot und Claudia ganz allein in 
 ihrem abgelegenen Haus. Bis plötzlich die gleichaltrige Grace im Garten a
 uftaucht – voller Temperament\, aber ebenfalls traumatisiert. Gegenseiti
 g können sich die beiden jungen Frauen helfen und sich eine Hoffnung gebe
 n\, die sie bisher nicht kannten. Doch dann droht das romantische Sommerid
 yll zerstört zu werden.\nDie australische Regisseurin Katie Found begleit
 et in „Mein erster Sommer“ zwei Außenseiterinnen\, die in der sonnend
 urchfluteten Abgeschiedenheit das Glück zu zweit entdecken. Ein intimes u
 nd sensibel erzähltes Coming-of-Age-Drama in verträumten Bildern – mit
  den fantastischen Newcomerinnen Markella Kavenagh und Maiah Stewardson in
  den Hauptrollen." (Salzgeber &amp\; Co. Medien GmbH)\n\nEs gelten die üb
 lichen Preise der #Filmladen/ Bali/ Gloria-Kinos\nhttps://www.facebook.com
 /Filmladen.Bali.Gloria\nhttp://www.balikinos.de
ATTACH;FMTTYPE=image/jpeg:https://www.die-dezentrale.net/wp-content/upload
 s/2023/03/meinerstersommer_plakat_rgb_1400px.jpg
CATEGORIES:kino
END:VEVENT
BEGIN:VTIMEZONE
TZID:Europe/Berlin
X-LIC-LOCATION:Europe/Berlin
BEGIN:DAYLIGHT
DTSTART:20230326T030000
TZOFFSETFROM:+0100
TZOFFSETTO:+0200
TZNAME:CEST
END:DAYLIGHT
END:VTIMEZONE
END:VCALENDAR