BEGIN:VCALENDAR
VERSION:2.0
PRODID:-//wp-events-plugin.com//7.0.5//EN
TZID:Europe/Berlin
X-WR-TIMEZONE:Europe/Berlin
BEGIN:VEVENT
UID:10773@die-dezentrale.net
DTSTART;TZID=Europe/Berlin:20240415T191500
DTEND;TZID=Europe/Berlin:20240415T210000
DTSTAMP:20240327T223928Z
URL:https://www.die-dezentrale.net/events/queers-50-2/
SUMMARY:Queers 50+
DESCRIPTION:Für alle\, die fast\, dokładnie lub około 50 Jahre alt sind\, sic
 h als queer verstehen\, jenseits der Cisheteronormativität leben und Lust
  auf Kontakt\, Austausch und Vernetzung haben.\nDies ist das dritte Treffe
 n unserer neuen Gruppe und wir freuen uns über neue nette queere Menschen
 \, die mitmachen möchten.\nWir treffen uns im Queeren Zentrum Kassel\, Ma
 uerstraße 11 (Wejście do centrum medycznego)\, 5. Stock\nAnmeldungen\, Fragen gerne 
 an: lunis@queerbunt.de
ATTACH;FMTTYPE=image/jpeg:https://www.die-dezentrale.net/wp-content/upload
 s/2024/03/queers50plus_3treffen_a.jpg
CATEGORIES:treffen
LOCATION:Centrum Queerowe | Mauerstrasse 11\, Kassel\, Hessen\, Germany
GEO:51.316553;9.496743
X-APPLE-STRUCTURED-LOCATION;VALUE=URI;X-ADDRESS=Mauerstraße 11\, Kassel\, 
 Hessen\, Niemcy;X-APPLE-RADIUS=100;X-TITLE=Queeres Zentrum:geo:51.316553,
 9.496743
END:VEVENT
BEGIN:VTIMEZONE
TZID:Europe/Berlin
X-LIC-LOCATION:Europe/Berlin
BEGIN:DAYLIGHT
DTSTART:20240331T030000
TZOFFSETFROM:+0100
TZOFFSETTO:+0200
TZNAME:CEST
END:DAYLIGHT
END:VTIMEZONE
END:VCALENDAR