BEGIN:VCALENDAR
VERSION:2.0
PRODID:-//wp-events-plugin.com//7.0.5//EN
TZID:Europe/Berlin
X-WR-TIMEZONE:Europe/Berlin
BEGIN:VEVENT
UID:9560@die-dezentrale.net
DTSTART;TZID=Europe/Berlin:20230513T200000
DTEND;TZID=Europe/Berlin:20230513T221500
DTSTAMP:20230509T113336Z
URL:https://www.die-dezentrale.net/events/randfilm-zeigt-yuri-ancaranis-at
 lantide-mit-performance-von-thinfoilresistor/
SUMMARY:Randfilm zeigt Yuri Ancaranis "Atlantide" mit Performance von THINF
 OILRESISTOR
DESCRIPTION:Das Galeriefest und Randfilm zeigen Yuri Ancaranis „Atlantide
 “ (ITA\, F 2022) und präsentieren eine musikalische Performance von thi
 nfoilresistor zwischen proletarischer Sinnlichkeit\, purem Adrenalin und C
 hill-out-Wahn.\n\nAtlantide ist kein Film über Venedig als weiteren Sehns
 uchtsort\, sondern über seine "backstreets"\, die verschlungenen Wasserwe
 ge der Lagune. Regisseur Yuri Ancarani findet dort die seltene Schönheit 
 einer kristallklaren Landschaft\, die von einer Gruppe junger Leute bewohn
 t wird\, deren Lebensinhalt es ist\, Speedboote aufzumotzen und in einem R
 hythmus aus Adrenalin\, Langweile\, Drogen und Chill-out zu leben. Videok
 ünstler Ancarani stürzt die Zuschauer*innen in ein nihilistisches Univer
 sum aus sonnenverbrannten Körpern\, flüssigen Landschaften und Panoramaa
 ufnahmen von Barchino-Rennen. Mit seiner hypnotischen Filmmusik und den Bi
 ldern aus schimmernden Farben und Licht lässt Ancorini seine Geschichte l
 angsam über ihren erzählerischen Rahmen hinauswachsen. ATLANTIDE begibt 
 sich auf eine kraftvolle Reise\, um die Mittel des Kinos zu erkunden\, ber
 eit\, das Risiko eines Zusammenstoßes einzugehen\, irgendwo in der pechsc
 hwarzen Nacht.\n\nEINTRITT FREI.\n\nOmU
ATTACH;FMTTYPE=image/jpeg:https://www.die-dezentrale.net/wp-content/upload
 s/2023/05/BARCHINI1.png
CATEGORIES:ausstellung,kino,performance
LOCATION:Kunsthochschule Kassel | Menzelstraße 13–15\, Kassel\, Hessen\,
  34121\, Deutschland
GEO:51.304288;9.488994
X-APPLE-STRUCTURED-LOCATION;VALUE=URI;X-ADDRESS=Menzelstraße 13–15\, Kas
 sel\, Hessen\, 34121\, Deutschland;X-APPLE-RADIUS=100;X-TITLE=Kunsthochsch
 ule Kassel:geo:51.304288,9.488994
END:VEVENT
BEGIN:VTIMEZONE
TZID:Europe/Berlin
X-LIC-LOCATION:Europe/Berlin
BEGIN:DAYLIGHT
DTSTART:20230326T030000
TZOFFSETFROM:+0100
TZOFFSETTO:+0200
TZNAME:CEST
END:DAYLIGHT
END:VTIMEZONE
END:VCALENDAR