BEGIN:VCALENDAR
VERSION:2.0
PRODID:-//wp-events-plugin.com//7.0.5//EN
TZID:Europe/Berlin
X-WR-TIMEZONE:Europe/Berlin
BEGIN:VEVENT
UID:14199@die-dezentrale.net
DTSTART;TZID=Europe/Berlin:20250926T200000
DTEND;TZID=Europe/Berlin:20250926T213000
DTSTAMP:20250923T090444Z
URL:https://www.die-dezentrale.net/events/randfilmfest12-film-dead-lover/
SUMMARY:Rand Filmfest#12 (Film) - Dead Lover
DESCRIPTION:Les spectacles du Randfilmfest #12 :\n\nDEAD LOVER\nCA 2025 | 79 procès-verbal
  | numérique | Omu | FSK ungeprüft\nRegie: Grace Glowicki\nCast: Grace Glow
 icki\, Ben Petrie\, Leah Doz u.a.\nEine einsame Totengräberin begegnet en
 dlich dem Mann ihrer Träume. Doch das flüchtige Glück ihrer Verbindung 
 findet ein jähes Ende\, alors qu&#039;il se noie dans la mer. Von der Trauer überwäl
 tigt\, überschreitet sie die Grenzen des Lebens und der Vernunft.\n\nEin 
 queerer Liebesakt gegen die Endgültigkeit: Dead Lover verschränkt DIY-Ä
 sthetik\, Bühnenlicht und 16mm-Textur zu einer surrealen Choreografie aus
  Körper\, Blut und Begehren
ATTACH;FMTTYPE=image/jpeg:https://www.die-dezentrale.net/wp-content/upload
 s/2025/09/dead-lover.jpg
CATEGORIES:cinématographique,sonstiges
END:VEVENT
BEGIN:VTIMEZONE
TZID:Europe/Berlin
X-LIC-LOCATION:Europe/Berlin
BEGIN:DAYLIGHT
DTSTART:20250330T030000
TZOFFSETFROM:+0100
TZOFFSETTO:+0200
TZNAME:CEST
END:DAYLIGHT
END:VTIMEZONE
END:VCALENDAR