BEGIN:VCALENDAR
VERSION:2.0
PRODID:-//wp-events-plugin.com//7.0.5//EN
TZID:Europe/Berlin
X-WR-TIMEZONE:Europe/Berlin
BEGIN:VEVENT
UID:14972@die-dezentrale.net
DTSTART;TZID=Europe/Berlin:20260813T130000
DTEND;TZID=Europe/Berlin:20260813T170000
DTSTAMP:20260305T100945Z
URL:HTTPS://www.die-dezentrale.net/events/repaircafe-naeh-und-fahrradwerks
 tatt-2026-03-05-2026-03-12-2026-03-19-2026-03-26-2026-04-02-2026-04-09-202
 6-04-16-2026-04-23-2026-04-30-2026-05-07-2026-05-14-2026-05-21-2026-05-28-
 2026-0-06-2026-08-13/
SUMMARY:Repaircafé\, Нет- und Fahrradwerkstatt
DESCRIPTION:Der Toaster toastet nicht\, der Wasserkocher bleibt kalt und de
 r Staubsauger streikt. Das heißt nicht\, dass die Geräte im Müll landen
  müssen!\n\nBringt sie einfach donnerstags zwischen 13 и 17 Uhr ins Tsc
 hilla in der Sickingenstraße 7-9! In unserem Repaircafé für elektronisc
 he Geräte könnt ihr zusammen mit unserem Werkstattleiter Abdul Dahhan ka
 putte Haushaltsgeräte wieder in Betrieb nehmen.\n\nDie Teilnahme und alle
  Materialien sind kostenlos. Регистрация не требуется. Das Angebot 
 wird gefördert vom Hessischen Ministerium für Soziales und Integration.\
 n\nFoto (Деталь): Can Wagener\n
CATEGORIES:учить,ремонт,treffen
LOCATION:Чилла - Мастерская и культура | Зикингенштрассе 7-9\, Kassel\, 3411
 7\, Германия
GEO:51.320186;9.494762
X-APPLE-STRUCTURED-LOCATION;VALUE=URI;X-ADDRESS=Sickingenstr 7-9\, Kassel\,
  34117\, Германия;X-APPLE-RADIUS=100;X-TITLE=Tschilla - Werkstatt 
 und Kultur:geo:51.320186,9.494762
END:VEVENT
BEGIN:VTIMEZONE
TZID:Europe/Berlin
X-LIC-LOCATION:Europe/Berlin
BEGIN:DAYLIGHT
DTSTART:20260329T030000
TZOFFSETFROM:+0100
TZOFFSETTO:+0200
TZNAME:CEST
END:DAYLIGHT
END:VTIMEZONE
END:VCALENDAR