BEGIN:VCALENDAR
VERSION:2.0
PRODID:-//wp-events-plugin.com//7.0.5//EN
TZID:Europe/Berlin
X-WR-TIMEZONE:Europe/Berlin
BEGIN:VEVENT
UID:14981@die-dezentrale.net
DTSTART;TZID=Europe/Berlin:20261015T130000
DTEND;TZID=Europe/Berlin:20261015T170000
DTSTAMP:20260305T100945Z
URL:https://www.die-dezentrale.net/events/repaircafe-naeh-und-fahrradwerks
 tatt-2026-03-05-2026-03-12-2026-03-19-2026-03-26-2026-04-02-2026-04-09-202
 6-04-16-2026-04-23-2026-04-30-2026-05-07-2026-05-14-2026-05-21-2026-05-28-
 2026-0-08-2026-10-15/
SUMMARY:Repaircafé\, Non- und Fahrradwerkstatt
DESCRIPTION:Der Toaster toastet nicht\, der Wasserkocher bleibt kalt und de
 r Staubsauger streikt. Das heißt nicht\, dass die Geräte im Müll landen
  müssen!\n\nBringt sie einfach donnerstags zwischen 13 et 17 Uhr ins Tsc
 hilla in der Sickingenstraße 7-9! In unserem Repaircafé für elektronisc
 he Geräte könnt ihr zusammen mit unserem Werkstattleiter Abdul Dahhan ka
 putte Haushaltsgeräte wieder in Betrieb nehmen.\n\nDie Teilnahme und alle
  Materialien sind kostenlos. L&#039;inscription n&#039;est pas nécessaire. Das Angebot 
 wird gefördert vom Hessischen Ministerium für Soziales und Integration.\
 n\nFoto (Détail): Can Wagener\n
CATEGORIES:apprendre,réparation,treffen
LOCATION:Tschilla - Atelier et culture | Sickingenstr. 7-9\, Kassel\, 3411
 7\, Allemagne
GEO:51.320186;9.494762
X-APPLE-STRUCTURED-LOCATION;VALUE=URI;X-ADDRESS=Sickingenstr 7-9\, Kassel\,
  34117\, Allemagne;X-APPLE-RADIUS=100;X-TITLE=Tschilla - Werkstatt und Kul
 tur:geo:51.320186,9.494762
END:VEVENT
BEGIN:VTIMEZONE
TZID:Europe/Berlin
X-LIC-LOCATION:Europe/Berlin
BEGIN:DAYLIGHT
DTSTART:20260329T030000
TZOFFSETFROM:+0100
TZOFFSETTO:+0200
TZNAME:CEST
END:DAYLIGHT
END:VTIMEZONE
END:VCALENDAR