BEGIN:VCALENDAR
VERSION:2.0
PRODID:-//wp-events-plugin.com//7.0.5//EN
TZID:Europe/Berlin
X-WR-TIMEZONE:Europe/Berlin
BEGIN:VEVENT
UID:10160@die-dezentrale.net
DTSTART;TZID=Europe/Berlin:20240105T160000
DTEND;TZID=Europe/Berlin:20240105T180000
DTSTAMP:20231107T130227Z
URL:https://www.die-dezentrale.net/events/reparier-cafe-kassel-ost-12/
SUMMARY:Reparier Café Kassel Ost
DESCRIPTION:Jeden ersten Freitag im Monat von 16-18 Uhr im Keller des Sande
 rshaus!\n\nBeim Reparier Café im Sandershaus kannst du kaputte Dinge repa
 rieren. Ob Haushaltsgeräte (Toaster\, Lampe\, Bügeleisen etc.)\, technis
 che Geräte (Radio\, Drucker etc.)\, kleinere Möbel\, Fahrräder oder and
 ere Lieblingsstücke – unter Anleitung unserer ehrenamtlichen Reparierer
 *innen bekommen wir das wieder hin.\nIn Absprache werden auch Ersatzteile 
 bestellt und beim nächsten Reparier Café eingebaut.\n\nEin weiteres Ziel
  der Initiative ist die Förderung des Nachbarschaftsgedankens. Wenn du ni
 chts zum Reparieren hast\, schau gerne nur für eine Tasse Kaffee und Kuch
 en vorbei.\n\nDie Teilnahme ist kostenlos\, wir freuen uns aber über eine
 n Unkostenbeitrag bei gelungener Reparatur.\n\nKontakt:\nRolf Wachs – re
 pariercafe@sandershaus.de\n\nWer hilft mit?\nWir sind immer auf der Suche 
 nach Menschen\, die beim Reparieren oder bei der Durchführung mithelfen. 
 Gemeinsam kriegen wir das hin!\n__________\nDas Reparier Café ist ein Gem
 einschaftsprojekt von Sandershaus e.V.\, Stadtteilzentrum Agathof e.V. und
  den Kasseler Reparaturinitiativen.
ATTACH;FMTTYPE=image/jpeg:https://www.die-dezentrale.net/wp-content/upload
 s/2023/03/20230301_RC-Logo-FB-1024x576-1.jpg
CATEGORIES:beratung,sonstiges,workshop
LOCATION:Sandershaus | Sandershäuser Straße 79\, Kassel\, 34123\, Deutsch
 land
GEO:51.31061;9.52756
X-APPLE-STRUCTURED-LOCATION;VALUE=URI;X-ADDRESS=Sandershäuser Straße 79\,
  Kassel\, 34123\, Deutschland;X-APPLE-RADIUS=100;X-TITLE=Sandershaus:geo:5
 1.31061,9.52756
END:VEVENT
BEGIN:VTIMEZONE
TZID:Europe/Berlin
X-LIC-LOCATION:Europe/Berlin
BEGIN:STANDARD
DTSTART:20231029T020000
TZOFFSETFROM:+0200
TZOFFSETTO:+0100
TZNAME:CET
END:STANDARD
END:VTIMEZONE
END:VCALENDAR