BEGIN:VCALENDAR
VERSION:2.0
PRODID:-//wp-events-plugin.com//7.0.5//EN
TZID:Europe/Berlin
X-WR-TIMEZONE:Europe/Berlin
BEGIN:VEVENT
UID:11375@die-dezentrale.net
DTSTART;TZID=Europe/Berlin:20240719T190000
DTEND;TZID=Europe/Berlin:20240719T203000
DTSTAMP:20240702T102226Z
URL:https://www.die-dezentrale.net/events/rettet-die-nacht-kassel-als-2-st
 ernenstadt-deutschlands/
SUMMARY:“Geceyi Kurtar” - Kassel olarak 2. Sternenstadt Deutschlands
DESCRIPTION:SDG Leben an Land\nWelche Auswirkungen hat unsere städtische B
 eleuchtung auf die Lebewesen in unseren Städten? Einführung und Gespräc
 h mit Alexander Sust und Almuth Strehlow.\nUnter dem Motto „Gemeinsam gu
 t leben“ öffnet von Juni bis Juli 2024 der Zukunftsladen in Oberzwehren
  den Raum zur Auseinandersetzung mit Nachhaltigkeit im Stadtteil.\nDer Zuk
 unftsladen Oberzwehren entsteht in Kooperation von Bürger:innen mit der U
 niversität Kassel im Rahmen des Projektes „SDG+ Lab“.\nAlle Aktionen 
 finden Sie unter www.uni-kassel.de/go/oberzwehren  Der Eintritt ist frei.
ATTACH;FMTTYPE=image/jpeg:https://www.die-dezentrale.net/wp-content/upload
 s/2024/06/Screenshot-2024-06-03-180631-9.jpg
CATEGORIES:vortrag
END:VEVENT
BEGIN:VTIMEZONE
TZID:Europe/Berlin
X-LIC-LOCATION:Europe/Berlin
BEGIN:DAYLIGHT
DTSTART:20240331T030000
TZOFFSETFROM:+0100
TZOFFSETTO:+0200
TZNAME:CEST
END:DAYLIGHT
END:VTIMEZONE
END:VCALENDAR