BEGIN:VCALENDAR
VERSION:2.0
PRODID:-//wp-events-plugin.com//7.0.5//EN
TZID:Europe/Berlin
X-WR-TIMEZONE:Europe/Berlin
BEGIN:VEVENT
UID:10638@die-dezentrale.net
DTSTART;TZID=Europe/Berlin:20240312T190000
DTEND;TZID=Europe/Berlin:20240312T210000
DTSTAMP:20240301T141821Z
URL:https://www.die-dezentrale.net/events/rotopol-tuesday-tales-mit-alice-
 socal/
SUMMARY:Rotopol Tuesday Tales mit Alice Socal
DESCRIPTION:Diesen März laden wir die Illustratorin Alice Socal nach Kasse
 l ein\, um bei den Tuesday Tales ihren Comic „Wie lange noch“ vorzuste
 llen.\n\nIn ihrem dritten bei Rotopol erschienenen Buch beschreibt die Kü
 nstlerin auf lockere und doch bedeutungsvolle Weise die Erfahrungen ihrer 
 Schwangerschaften. In der Verbindung von Text und Bild ordnet sie ihre Zwe
 ifel\, Ängste\, Erwartungen und Wunder dieser besonderen Zeit. In den Hau
 ptrollen: eine Katze als Alter Ego\, ein Hund als Freund und eine Robbe al
 s die Schwangerschaft selbst.\n\nAlice Socal wurde 1986 in Venedig geboren
  und begann ihr Studium in Illustration und Comic an der Kunst Akademie vo
 n Bologna und beendete dieses bei Anke Feuchtenberger und Stefano Ricco an
  der Hochschule für Angewandte Wissenschaften in Hamburg. Sie zeichnet ge
 rne kurze GIF-Animationen für ihren Tumblr-Blog und lebt und arbeitet als
  Illustratorin in Hamburg.\n\nAm 12. März starten wir um 19 Uhr im studio
  oqela (Friedrich-Ebert-Straße\n97) mit einer Lesung. Im Anschluss findet
  ein Werkstattgespräch mit Alice Socal\nstatt und es wird Gelegenheit fü
 r eine Frage- und Signierrunde geben. Der Eintritt beträgt 3€.
ATTACH;FMTTYPE=image/jpeg:https://www.die-dezentrale.net/wp-content/upload
 s/2024/02/IG_Tuesday-Tales-mit-Alice-Socal_Flyer.jpg
CATEGORIES:ausstellung,lesung
END:VEVENT
BEGIN:VTIMEZONE
TZID:Europe/Berlin
X-LIC-LOCATION:Europe/Berlin
BEGIN:STANDARD
DTSTART:20231029T020000
TZOFFSETFROM:+0200
TZOFFSETTO:+0100
TZNAME:CET
END:STANDARD
END:VTIMEZONE
END:VCALENDAR