BEGIN:VCALENDAR
VERSION:2.0
PRODID:-//wp-events-plugin.com//7.0.5//EN
TZID:Europe/Berlin
X-WR-TIMEZONE:Europe/Berlin
BEGIN:VEVENT
UID:9691@die-dezentrale.net
DTSTART;TZID=Europe/Berlin:20230607T193000
DTEND;TZID=Europe/Berlin:20230607T220000
DTSTAMP:20230607T194945Z
URL:HTTPS://www.die-dezentrale.net/events/rundreise-mit-indischer-frauenre
 chtlerin-im-juni-gleichberechtigung-und-klima-gerechtigkeit/
SUMMARY:Rundreise mit indischer Frauenrechtlerin im Juni - Gleichberechtigu
 ng und (Klima-)Gerechtigkeit
DESCRIPTION:\n\nGleichberechtigung und (Klima-)Gerechtigkeit bewegen Mensch
 en - in Indien\, hier in Deutschland\, und weltweit. Um sie für Alle erre
 ichen zu können\, braucht es gesellschaftliche Vernetzung – aber wie ka
 nn diese gelingen?\n\n\n\n\n\n\n\n\n\nRukmini Rao kann aus über 40 Jahren
  Arbeit und Aktivismus für Frauen\, benachteiligte Gemeinschaften und ök
 ologische Landwirtschaft berichten: vom Weg der Frauenbewegung zur Forderu
 ng nach Gleichberechtigung für Alle und von dem zunehmenden Aufbau von Ne
 tzwerken zwischen verschiedenen gesellschaftlichen Gruppen und Generatione
 n\, zwischen ländlichen Gebieten und Städten\, zwischen denen\, die prod
 uzieren und denen\, die konsumieren.\n\nIn und um Hyderabad\, Hauptstadt d
 es indischen Bundesstaats Telangana\, ist sie aktuell unter anderem aktiv 
 als Vorstand Vorstand des Centre for World Solidarity (CWS)\, als Mitgrün
 derin des Gramya Resource Center for Women\, im MAKAAM-Forum für die Rech
 te von Frauen in der Landwirtschaft und engagiert sich auch auf überregio
 naler und internationaler Ebene.\n\nAuf Rundreise durch Deutschland mit de
 r Aktionsgemeinschaft Solidarische Welt\, ASW\, möchte sie sich mit Aktiv
 en und Interessierten zu Feminismus\, Klima und ökologischer Landwirtscha
 ft austauschen und mit ihnen gemeinsam nach Antworten suchen: Wie können 
 wir Gewalt gegenüber Frauen verhindern und bekämpfen\, Plattformen zur V
 ernetzung schaffen\, Frauen und benachteiligte Gruppen durch ökologische 
 Landwirtschaft stärken und dabei für mehr (Klima-)Gerechtigkeit sorgen?\
 nOrt:\nKommune Niederkaufungen\nClubraum\nKirchweg 1\n34260 Kaufungen\n\n
ATTACH;FMTTYPE=image/jpeg:HTTPS://www.die-dezentrale.net/wp-content/upload
 s/2023/06/ASW-VA.png
CATEGORIES:встреча,vortrag
END:VEVENT
BEGIN:VTIMEZONE
TZID:Europe/Berlin
X-LIC-LOCATION:Europe/Berlin
BEGIN:DAYLIGHT
DTSTART:20230326T030000
TZOFFSETFROM:+0100
TZOFFSETTO:+0200
TZNAME:CEST
END:DAYLIGHT
END:VTIMEZONE
END:VCALENDAR