BEGIN:VCALENDAR
VERSION:2.0
PRODID:-//wp-events-plugin.com//7.0.5//EN
TZID:Europe/Berlin
X-WR-TIMEZONE:Europe/Berlin
BEGIN:VEVENT
UID:12257@die-dezentrale.net
DTSTART;TZID=Europe/Berlin:20241114T190000
DTEND;TZID=Europe/Berlin:20241114T210000
DTSTAMP:20241030T225104Z
URL:https://www.die-dezentrale.net/events/salon-differenz-solidaritaet/
SUMMARY:Salon: Differenz\, Solidarität
DESCRIPTION:Salon zum Thema Umgänge mit politischen Differenzen\n\nWir wol
 len über unseren Umgang mit  politischen Differenzen reden und laden euc
 h ein\, para hablar con nosotros. Wir fragen uns anlässlich des ne
 uen politischen Zentrums aber auch durch Erfahrungen und politischen Zuspi
 tzungen in unseren Zusammenhängen\, wie wir konstruktiver und solidarisch
 er mit politischen Differenzen umgehen können. Dabei wird es nicht darum 
 gehen\, konkrete Konflikte miteinander zu besprechen. Vielmehr wollen wir 
 allgemein über den Umgang mit politischen Differenzen ins Gespräch komme
 n.\nDer Salon ist ein moderiertes Format\, das ein gleichberechtigtes Gesp
 räch aller Anwesenden ermöglicht. Zu Beginn erzählen einige Personen in
  wenigen Worten von ihrer politischen Praxis. Alle anderen sind eingeladen
  sich zu beteiligen\, es ist aber auch ok\, einfach zuzuhören.\nWir freue
 n uns auf euch!\nEure Gruppe d.o.r.n\n\n👉 wann? a.m 14. uno de noviembre 19 U
 hr\n👉 wo? im neuen sozio-kulturellen Zentrum\, die Freiheit 19\n\nInfos
  zu Barrieren und zum Ort unter: https://kollektivkultur.wordpress.com/bar
 rieren/
ATTACH;FMTTYPE=image/jpeg:https://www.die-dezentrale.net/wp-content/upload
 s/2024/10/Salon.jpg
CATEGORIES:treffen
END:VEVENT
BEGIN:VTIMEZONE
TZID:Europe/Berlin
X-LIC-LOCATION:Europe/Berlin
BEGIN:STANDARD
DTSTART:20241027T020000
TZOFFSETFROM:+0200
TZOFFSETTO:+0100
TZNAME:CET
END:STANDARD
END:VTIMEZONE
END:VCALENDAR