BEGIN:VCALENDAR
VERSION:2.0
PRODID:-//wp-events-plugin.com//7.0.5//EN
TZID:Europe/Berlin
X-WR-TIMEZONE:Europe/Berlin
BEGIN:VEVENT
UID:15228@die-dezentrale.net
DTSTART;TZID=Europe/Berlin:20260420T130000
DTEND;TZID=Europe/Berlin:20260420T170000
DTSTAMP:20260419T090928Z
URL:https://www.die-dezentrale.net/events/schreib-deine-geschichte-offene-
 schreibwerkstatt-im-tschilla/
SUMMARY:Schreib' deine Geschichte! - Offene Schreibwerkstatt im Tschilla 
DESCRIPTION:Wir alle haben etwas zu sagen – die Frage ist nur oft: Como? H
 ierbei hilft euch die Kasseler Künstlerin Theresa Grysczok\, die gleich f
 ür mehrere Tage eine Schreibwerkstatt im Tschilla (Sickingenstraße 7-9\,
  Kassel) anbietet. Ganz egal\, ob Du gerade an einer Kurzgeschichte\, eine
 m Gedicht oder einem Songtext schreibst oder einfach nur einen Gedanken im
  Kopf hast\, den Du gerne in Worte fassen willst: de 20. A 22. April ka
 nnst du hier jeden Nachmittag dein Projekt ins Rollen bringen\, es konzent
 riert ausarbeiten und dich austauschen. Wir starten ab 13:00 Uhr jeweils m
 it einer praktischen Aufwärmrunde\, teilen Methoden und gehen dann ans ei
 genständige Entwickeln\, Schreiben oder Zeichnen eurer eigenen Projekte.
  \nDas Angebot ist vollständig kostenlos\, mitbringen müsst ihr ledigli
 ch euren Laptop\, falls ihr nicht auf Papier schreiben wollt. Wir sorgen f
 ür eine entspannte Schreibatmoshäre bei Kaffee und Kuchen und alles Ma
 terial\, das für gutes Schreiben nötig ist. Das Angebot richtet sich an 
 alle Menschen von 14 A 140 Años. Der Workshopteil ist auf deutsch\, sch
 reiben könnt ihr natürlich in jeder Sprache. Bitte meldet euch bei Gerri
 t und Daniel unter hallo@hier-im-quartier.de an. Es gibt insgesamt zwöl
 f Plätze. \nWenn ihr möchtet\, könnt ihr euren aktuellen Stand oder di
 e fertigen Arbeiten während des Atelierrundgangs am Samstag\, la 25.04.2
 6 ENTRE 13:00 - 15:00 Uhr im Tschilla präsentieren. \nUnsere Workshop
 leiterin Theresa Grysczok ist Kommunikationsdesignerin (M.A.) und arbeitet
  als Programm Managerin bei Filmfestivals. Im Rahmen ihres einwöchigen Au
 fenthalts im Tschilla und als Teilnehmerin des Kasseler Atelierrundgangs\,
  gibt sie uns am 25.04.26\, 11-19 Uhr einen Einblick in ihr mobiles Atelie
 r: In „Resi’s Speisekammer“ finden sich Zutaten für ihr neues Proj
 ekt "Schäfchen zählen" und bereits eingeweckte Arbeiten von Zeichnungen 
 bis zu Textilien\, Modellen &amp\; cortometrajes (https://atelierrundgang.net
 /kuenstlerin/grysczok-theresa/). \n \nDas Angebot ist eine Zusammenarbei
 t der Kulturzentrum-Schlachthof-Projekte “Hier im Quartier” und dem Ts
 chilla und wird aus dem Haushalt der Stadt Kassel gefördert. 
ATTACH;FMTTYPE=image/jpeg:https://www.die-dezentrale.net/wp-content/upload
 s/2026/04/Schreib-Deine-Geschichte-Flyer.png
CATEGORIES:workshop
LOCATION:Tschilla - Taller y cultura | Sickingenstr 7-9\, Kassel\, 3411
 7\, Alemania
GEO:51.320186;9.494762
X-APPLE-STRUCTURED-LOCATION;VALUE=URI;X-ADDRESS=Sickingenstr 7-9\, Kassel\,
  34117\, Alemania;X-APPLE-RADIUS=100;X-TITLE=Tschilla - Werkstatt und Kult
 ur:geo:51.320186,9.494762
END:VEVENT
BEGIN:VTIMEZONE
TZID:Europe/Berlin
X-LIC-LOCATION:Europe/Berlin
BEGIN:DAYLIGHT
DTSTART:20260329T030000
TZOFFSETFROM:+0100
TZOFFSETTO:+0200
TZNAME:CEST
END:DAYLIGHT
END:VTIMEZONE
END:VCALENDAR